BEGIN:VCALENDAR
VERSION:2.0
PRODID:-//MassHire Metro North Career Center - ECPv6.15.20//NONSGML v1.0//EN
CALSCALE:GREGORIAN
METHOD:PUBLISH
X-WR-CALNAME:MassHire Metro North Career Center
X-ORIGINAL-URL:https://masshiremncareers.com
X-WR-CALDESC:Events for MassHire Metro North Career Center
REFRESH-INTERVAL;VALUE=DURATION:PT1H
X-Robots-Tag:noindex
X-PUBLISHED-TTL:PT1H
BEGIN:VTIMEZONE
TZID:America/New_York
BEGIN:DAYLIGHT
TZOFFSETFROM:-0500
TZOFFSETTO:-0400
TZNAME:EDT
DTSTART:20170312T070000
END:DAYLIGHT
BEGIN:STANDARD
TZOFFSETFROM:-0400
TZOFFSETTO:-0500
TZNAME:EST
DTSTART:20171105T060000
END:STANDARD
BEGIN:DAYLIGHT
TZOFFSETFROM:-0500
TZOFFSETTO:-0400
TZNAME:EDT
DTSTART:20180311T070000
END:DAYLIGHT
BEGIN:STANDARD
TZOFFSETFROM:-0400
TZOFFSETTO:-0500
TZNAME:EST
DTSTART:20181104T060000
END:STANDARD
BEGIN:DAYLIGHT
TZOFFSETFROM:-0500
TZOFFSETTO:-0400
TZNAME:EDT
DTSTART:20190310T070000
END:DAYLIGHT
BEGIN:STANDARD
TZOFFSETFROM:-0400
TZOFFSETTO:-0500
TZNAME:EST
DTSTART:20191103T060000
END:STANDARD
BEGIN:DAYLIGHT
TZOFFSETFROM:-0500
TZOFFSETTO:-0400
TZNAME:EDT
DTSTART:20200308T070000
END:DAYLIGHT
BEGIN:STANDARD
TZOFFSETFROM:-0400
TZOFFSETTO:-0500
TZNAME:EST
DTSTART:20201101T060000
END:STANDARD
END:VTIMEZONE
BEGIN:VEVENT
DTSTART;TZID=America/New_York:20190301T100000
DTEND;TZID=America/New_York:20190301T113000
DTSTAMP:20260420T231411
CREATED:20190201T210239Z
LAST-MODIFIED:20190201T210239Z
UID:17300-1551434400-1551439800@masshiremncareers.com
SUMMARY:Career Development Options
DESCRIPTION:Interested in getting one-on-one career counseling to help with your job search? Need grant funds for schooling or training? Come learn about your career path options and how we can help you in your job search. This information session explains in detail about the eligibility requirements for accessing these grant-funded services through WIOA.
URL:https://masshiremncareers.com/event/career-development-options-35/
LOCATION:Woburn Career Center\, 100 Trade Center\, Suite G100\, Woburn\, MA\, 01801\, United States
CATEGORIES:Woburn Center Event,Workshops
END:VEVENT
BEGIN:VEVENT
DTSTART;TZID=America/New_York:20190227T140000
DTEND;TZID=America/New_York:20190227T153000
DTSTAMP:20260420T231411
CREATED:20190115T211708Z
LAST-MODIFIED:20190115T211708Z
UID:17162-1551276000-1551281400@masshiremncareers.com
SUMMARY:Career Development Options
DESCRIPTION:Interested in getting one-on-one career counseling to help with your job search? Need grant funds for schooling or training? Come learn about your career path options and how we can help you in your job search. This information session explains in detail about the eligibility requirements for accessing these grant-funded services through WIOA.
URL:https://masshiremncareers.com/event/career-development-options-32-2019-02-27/
LOCATION:Chelsea Career Center\, 4 Gerrish Ave\, Chelsea\, MA\, 02150\, United States
CATEGORIES:Chelsea Center Event
END:VEVENT
BEGIN:VEVENT
DTSTART;TZID=America/New_York:20190225T133000
DTEND;TZID=America/New_York:20190225T150000
DTSTAMP:20260420T231411
CREATED:20181227T162604Z
LAST-MODIFIED:20181227T162604Z
UID:16985-1551101400-1551106800@masshiremncareers.com
SUMMARY:Career Development Options
DESCRIPTION:Interested in getting one-on-one career counseling to help with your job search? Need grant funds for schooling or training? Come learn about your career path options and how we can help you in your job search. This information session explains in detail about the eligibility requirements for accessing these grant-funded services through WIOA.
URL:https://masshiremncareers.com/event/career-development-options-27/
LOCATION:Cambridge Career Center\, 186 Alewife Brook Parkway\, Cambridge\, MA\, 02138\, United States
CATEGORIES:Cambridge Center Event,Workshops
END:VEVENT
BEGIN:VEVENT
DTSTART;TZID=America/New_York:20190222T100000
DTEND;TZID=America/New_York:20190222T113000
DTSTAMP:20260420T231411
CREATED:20181227T202523Z
LAST-MODIFIED:20181227T202523Z
UID:17054-1550829600-1550835000@masshiremncareers.com
SUMMARY:Career Development Options
DESCRIPTION:Interested in getting one-on-one career counseling to help with your job search? Need grant funds for schooling or training? Come learn about your career path options and how we can help you in your job search. This information session explains in detail about the eligibility requirements for accessing these grant-funded services through WIOA.
URL:https://masshiremncareers.com/event/career-development-options-30/
LOCATION:Woburn Career Center\, 100 Trade Center\, Suite G100\, Woburn\, MA\, 01801\, United States
CATEGORIES:Woburn Center Event,Workshops
END:VEVENT
BEGIN:VEVENT
DTSTART;TZID=America/New_York:20190220T140000
DTEND;TZID=America/New_York:20190220T153000
DTSTAMP:20260420T231411
CREATED:20190115T211708Z
LAST-MODIFIED:20190115T211708Z
UID:17160-1550671200-1550676600@masshiremncareers.com
SUMMARY:Career Development Options
DESCRIPTION:Interested in getting one-on-one career counseling to help with your job search? Need grant funds for schooling or training? Come learn about your career path options and how we can help you in your job search. This information session explains in detail about the eligibility requirements for accessing these grant-funded services through WIOA.
URL:https://masshiremncareers.com/event/career-development-options-32/
LOCATION:Chelsea Career Center\, 4 Gerrish Ave\, Chelsea\, MA\, 02150\, United States
CATEGORIES:Chelsea Center Event
END:VEVENT
BEGIN:VEVENT
DTSTART;TZID=America/New_York:20190219T133000
DTEND;TZID=America/New_York:20190219T150000
DTSTAMP:20260420T231411
CREATED:20181227T161707Z
LAST-MODIFIED:20181227T161707Z
UID:16973-1550583000-1550588400@masshiremncareers.com
SUMMARY:Career Development Options
DESCRIPTION:Interested in getting one-on-one career counseling to help with your job search? Need grant funds for schooling or training? Come learn about your career path options and how we can help you in your job search. This information session explains in detail about the eligibility requirements for accessing these grant-funded services through WIOA.
URL:https://masshiremncareers.com/event/career-development-options-26/
LOCATION:Cambridge Career Center\, 186 Alewife Brook Parkway\, Cambridge\, MA\, 02138\, United States
CATEGORIES:Cambridge Center Event,Workshops
END:VEVENT
BEGIN:VEVENT
DTSTART;TZID=America/New_York:20190215T100000
DTEND;TZID=America/New_York:20190215T113000
DTSTAMP:20260420T231411
CREATED:20181227T193450Z
LAST-MODIFIED:20181227T193450Z
UID:17032-1550224800-1550230200@masshiremncareers.com
SUMMARY:Career Development Options
DESCRIPTION:Interested in getting one-on-one career counseling to help with your job search? Need grant funds for schooling or training? Come learn about your career path options and how we can help you in your job search. This information session explains in detail about the eligibility requirements for accessing these grant-funded services through WIOA.
URL:https://masshiremncareers.com/event/career-development-options-29/
LOCATION:Woburn Career Center\, 100 Trade Center\, Suite G100\, Woburn\, MA\, 01801\, United States
CATEGORIES:Woburn Center Event,Workshops
END:VEVENT
BEGIN:VEVENT
DTSTART;TZID=America/New_York:20190211T140000
DTEND;TZID=America/New_York:20190211T160000
DTSTAMP:20260420T231411
CREATED:20190115T211557Z
LAST-MODIFIED:20190115T211557Z
UID:17158-1549893600-1549900800@masshiremncareers.com
SUMMARY:Career Development Options
DESCRIPTION:Interested in getting one-on-one career counseling to help with your job search? Need grant funds for schooling or training? Come learn about your career path options and how we can help you in your job search. This information session explains in detail about the eligibility requirements for accessing these grant-funded services through WIOA.
URL:https://masshiremncareers.com/event/career-development-options-31/
LOCATION:Chelsea Career Center\, 4 Gerrish Ave\, Chelsea\, MA\, 02150\, United States
CATEGORIES:Chelsea Center Event
END:VEVENT
BEGIN:VEVENT
DTSTART;TZID=America/New_York:20190211T100000
DTEND;TZID=America/New_York:20190211T113000
DTSTAMP:20260420T231411
CREATED:20181227T155732Z
LAST-MODIFIED:20181227T155732Z
UID:16954-1549879200-1549884600@masshiremncareers.com
SUMMARY:Career Development Options
DESCRIPTION:Interested in getting one-on-one career counseling to help with your job search? Need grant funds for schooling or training? Come learn about your career path options and how we can help you in your job search. This information session explains in detail about the eligibility requirements for accessing these grant-funded services through WIOA.
URL:https://masshiremncareers.com/event/career-development-options-25/
LOCATION:Cambridge Career Center\, 186 Alewife Brook Parkway\, Cambridge\, MA\, 02138\, United States
CATEGORIES:Cambridge Center Event,Workshops
END:VEVENT
BEGIN:VEVENT
DTSTART;TZID=America/New_York:20190208T100000
DTEND;TZID=America/New_York:20190208T113000
DTSTAMP:20260420T231411
CREATED:20181227T191855Z
LAST-MODIFIED:20181227T191855Z
UID:17017-1549620000-1549625400@masshiremncareers.com
SUMMARY:Career Development Options
DESCRIPTION:Interested in getting one-on-one career counseling to help with your job search? Need grant funds for schooling or training? Come learn about your career path options and how we can help you in your job search. This information session explains in detail about the eligibility requirements for accessing these grant-funded services through WIOA.
URL:https://masshiremncareers.com/event/career-development-options-28/
LOCATION:Woburn Career Center\, 100 Trade Center\, Suite G100\, Woburn\, MA\, 01801\, United States
CATEGORIES:Woburn Center Event,Workshops
END:VEVENT
BEGIN:VEVENT
DTSTART;TZID=America/New_York:20190206T140000
DTEND;TZID=America/New_York:20190206T153000
DTSTAMP:20260420T231411
CREATED:20190115T211503Z
LAST-MODIFIED:20190115T211503Z
UID:17156-1549461600-1549467000@masshiremncareers.com
SUMMARY:Career Development Options (Espanol)
DESCRIPTION:Interesado en obtener asesoramiento profesional individual? ¿Buscas fondos para pagar la escolarización o entrenamiento? Venga y aprenda sobre las opciones de su trayectoria profesional y cómo podemos ayudarlo en su búsqueda de trabajo. Esta sesión de información explica en detalle los requisitos de elegibilidad para acceder a estos servicios financiados a través del programa WIOA. \nInterested in getting one-on-one career counseling to help with your job search? Need grant funds for schooling or training? Come learn about your career path options and how we can help you in your job search. This information session explains in detail about the eligibility requirements for accessing these grant-funded services through WIOA.
URL:https://masshiremncareers.com/event/career-development-options-espanol-2/
LOCATION:Chelsea Career Center\, 4 Gerrish Ave\, Chelsea\, MA\, 02150\, United States
CATEGORIES:Chelsea Center Event
END:VEVENT
BEGIN:VEVENT
DTSTART;TZID=America/New_York:20190204T133000
DTEND;TZID=America/New_York:20190204T150000
DTSTAMP:20260420T231411
CREATED:20181227T154746Z
LAST-MODIFIED:20181227T154746Z
UID:16937-1549287000-1549292400@masshiremncareers.com
SUMMARY:Career Development Options
DESCRIPTION:Interested in getting one-on-one career counseling to help with your job search? Need grant funds for schooling or training? Come learn about your career path options and how we can help you in your job search. This information session explains in detail about the eligibility requirements for accessing these grant-funded services through WIOA. (1.5 Hours)
URL:https://masshiremncareers.com/event/career-development-options-24/
LOCATION:Cambridge Career Center\, 186 Alewife Brook Parkway\, Cambridge\, MA\, 02138\, United States
CATEGORIES:Cambridge Center Event,Workshops
END:VEVENT
BEGIN:VEVENT
DTSTART;TZID=America/New_York:20190201T100000
DTEND;TZID=America/New_York:20190201T113000
DTSTAMP:20260420T231411
CREATED:20181206T155518Z
LAST-MODIFIED:20181206T155518Z
UID:16783-1549015200-1549020600@masshiremncareers.com
SUMMARY:Career Development Options
DESCRIPTION:Interested in getting one-on-one career counseling to help with your job search? Need grant funds for schooling or training? Come learn about your career path options and how we can help you in your job search. This information session explains in detail about the eligibility requirements for accessing these grant-funded services through WIOA.
URL:https://masshiremncareers.com/event/career-development-options-23-2019-02-01/
LOCATION:Woburn Career Center\, 100 Trade Center\, Suite G100\, Woburn\, MA\, 01801\, United States
CATEGORIES:Woburn Center Event,Workshops
END:VEVENT
BEGIN:VEVENT
DTSTART;TZID=America/New_York:20190130T140000
DTEND;TZID=America/New_York:20190130T153000
DTSTAMP:20260420T231411
CREATED:20181206T153058Z
LAST-MODIFIED:20190108T164828Z
UID:16757-1548856800-1548862200@masshiremncareers.com
SUMMARY:Career Development Options
DESCRIPTION:Interested in getting one-on-one career counseling to help with your job search? Need grant funds for schooling or training? Come learn about your career path options and how we can help you in your job search. This information session explains in detail about the eligibility requirements for accessing these grant-funded services through WIOA.
URL:https://masshiremncareers.com/event/career-development-options-22-2019-01-30/
LOCATION:Chelsea Career Center\, 4 Gerrish Ave\, Chelsea\, MA\, 02150\, United States
CATEGORIES:Chelsea Center Event,Workshops
END:VEVENT
BEGIN:VEVENT
DTSTART;TZID=America/New_York:20190128T133000
DTEND;TZID=America/New_York:20190128T150000
DTSTAMP:20260420T231411
CREATED:20181206T141333Z
LAST-MODIFIED:20181206T141333Z
UID:16693-1548682200-1548687600@masshiremncareers.com
SUMMARY:Career Development Options
DESCRIPTION:Interested in getting one-on-one career counseling to help with your job search? Need grant funds for schooling or training? Come learn about your career path options and how we can help you in your job search. This information session explains in detail about the eligibility requirements for accessing these grant-funded services through WIOA.
URL:https://masshiremncareers.com/event/career-development-options-19-2019-01-28/
LOCATION:Cambridge Career Center\, 186 Alewife Brook Parkway\, Cambridge\, MA\, 02138\, United States
CATEGORIES:Cambridge Center Event,Workshops
END:VEVENT
BEGIN:VEVENT
DTSTART;TZID=America/New_York:20190125T100000
DTEND;TZID=America/New_York:20190125T113000
DTSTAMP:20260420T231411
CREATED:20181206T155518Z
LAST-MODIFIED:20181206T155518Z
UID:16782-1548410400-1548415800@masshiremncareers.com
SUMMARY:Career Development Options
DESCRIPTION:Interested in getting one-on-one career counseling to help with your job search? Need grant funds for schooling or training? Come learn about your career path options and how we can help you in your job search. This information session explains in detail about the eligibility requirements for accessing these grant-funded services through WIOA.
URL:https://masshiremncareers.com/event/career-development-options-23-2019-01-25/
LOCATION:Woburn Career Center\, 100 Trade Center\, Suite G100\, Woburn\, MA\, 01801\, United States
CATEGORIES:Woburn Center Event,Workshops
END:VEVENT
BEGIN:VEVENT
DTSTART;TZID=America/New_York:20190125T100000
DTEND;TZID=America/New_York:20190125T113000
DTSTAMP:20260420T231411
CREATED:20181206T153058Z
LAST-MODIFIED:20190108T164902Z
UID:16755-1548410400-1548415800@masshiremncareers.com
SUMMARY:Career Development Options
DESCRIPTION:Interested in getting one-on-one career counseling to help with your job search? Need grant funds for schooling or training? Come learn about your career path options and how we can help you in your job search. This information session explains in detail about the eligibility requirements for accessing these grant-funded services through WIOA.
URL:https://masshiremncareers.com/event/career-development-options-22/
LOCATION:Chelsea Career Center\, 4 Gerrish Ave\, Chelsea\, MA\, 02150\, United States
CATEGORIES:Chelsea Center Event,Workshops
END:VEVENT
BEGIN:VEVENT
DTSTART;TZID=America/New_York:20190122T133000
DTEND;TZID=America/New_York:20190122T150000
DTSTAMP:20260420T231411
CREATED:20181206T141728Z
LAST-MODIFIED:20181206T141728Z
UID:16698-1548163800-1548169200@masshiremncareers.com
SUMMARY:Career Development Options
DESCRIPTION:Interested in getting one-on-one career counseling to help with your job search? Need grant funds for schooling or training? Come learn about your career path options and how we can help you in your job search. This information session explains in detail about the eligibility requirements for accessing these grant-funded services through WIOA.
URL:https://masshiremncareers.com/event/career-development-options-21/
LOCATION:Cambridge Career Center\, 186 Alewife Brook Parkway\, Cambridge\, MA\, 02138\, United States
CATEGORIES:Cambridge Center Event,Workshops
END:VEVENT
BEGIN:VEVENT
DTSTART;TZID=America/New_York:20190118T100000
DTEND;TZID=America/New_York:20190118T113000
DTSTAMP:20260420T231411
CREATED:20181206T155518Z
LAST-MODIFIED:20181206T155518Z
UID:16781-1547805600-1547811000@masshiremncareers.com
SUMMARY:Career Development Options
DESCRIPTION:Interested in getting one-on-one career counseling to help with your job search? Need grant funds for schooling or training? Come learn about your career path options and how we can help you in your job search. This information session explains in detail about the eligibility requirements for accessing these grant-funded services through WIOA.
URL:https://masshiremncareers.com/event/career-development-options-23-2019-01-18/
LOCATION:Woburn Career Center\, 100 Trade Center\, Suite G100\, Woburn\, MA\, 01801\, United States
CATEGORIES:Woburn Center Event,Workshops
END:VEVENT
BEGIN:VEVENT
DTSTART;TZID=America/New_York:20190114T100000
DTEND;TZID=America/New_York:20190114T113000
DTSTAMP:20260420T231411
CREATED:20181206T141604Z
LAST-MODIFIED:20181206T141604Z
UID:16696-1547460000-1547465400@masshiremncareers.com
SUMMARY:Career Development Options
DESCRIPTION:Interested in getting one-on-one career counseling to help with your job search? Need grant funds for schooling or training? Come learn about your career path options and how we can help you in your job search. This information session explains in detail about the eligibility requirements for accessing these grant-funded services through WIOA.
URL:https://masshiremncareers.com/event/career-development-options-20/
LOCATION:Cambridge Career Center\, 186 Alewife Brook Parkway\, Cambridge\, MA\, 02138\, United States
CATEGORIES:Cambridge Center Event,Workshops
END:VEVENT
BEGIN:VEVENT
DTSTART;TZID=America/New_York:20190111T100000
DTEND;TZID=America/New_York:20190111T113000
DTSTAMP:20260420T231411
CREATED:20181206T155518Z
LAST-MODIFIED:20181206T155518Z
UID:16780-1547200800-1547206200@masshiremncareers.com
SUMMARY:Career Development Options
DESCRIPTION:Interested in getting one-on-one career counseling to help with your job search? Need grant funds for schooling or training? Come learn about your career path options and how we can help you in your job search. This information session explains in detail about the eligibility requirements for accessing these grant-funded services through WIOA.
URL:https://masshiremncareers.com/event/career-development-options-23-2019-01-11/
LOCATION:Woburn Career Center\, 100 Trade Center\, Suite G100\, Woburn\, MA\, 01801\, United States
CATEGORIES:Woburn Center Event,Workshops
END:VEVENT
BEGIN:VEVENT
DTSTART;TZID=America/New_York:20190107T133000
DTEND;TZID=America/New_York:20190107T150000
DTSTAMP:20260420T231411
CREATED:20181206T141333Z
LAST-MODIFIED:20181206T141333Z
UID:16691-1546867800-1546873200@masshiremncareers.com
SUMMARY:Career Development Options
DESCRIPTION:Interested in getting one-on-one career counseling to help with your job search? Need grant funds for schooling or training? Come learn about your career path options and how we can help you in your job search. This information session explains in detail about the eligibility requirements for accessing these grant-funded services through WIOA.
URL:https://masshiremncareers.com/event/career-development-options-19/
LOCATION:Cambridge Career Center\, 186 Alewife Brook Parkway\, Cambridge\, MA\, 02138\, United States
CATEGORIES:Cambridge Center Event,Workshops
END:VEVENT
BEGIN:VEVENT
DTSTART;TZID=America/New_York:20190104T100000
DTEND;TZID=America/New_York:20190104T113000
DTSTAMP:20260420T231411
CREATED:20181206T155518Z
LAST-MODIFIED:20181206T155518Z
UID:16778-1546596000-1546601400@masshiremncareers.com
SUMMARY:Career Development Options
DESCRIPTION:Interested in getting one-on-one career counseling to help with your job search? Need grant funds for schooling or training? Come learn about your career path options and how we can help you in your job search. This information session explains in detail about the eligibility requirements for accessing these grant-funded services through WIOA.
URL:https://masshiremncareers.com/event/career-development-options-23/
LOCATION:Woburn Career Center\, 100 Trade Center\, Suite G100\, Woburn\, MA\, 01801\, United States
CATEGORIES:Woburn Center Event,Workshops
END:VEVENT
BEGIN:VEVENT
DTSTART;TZID=America/New_York:20190102T140000
DTEND;TZID=America/New_York:20190102T153000
DTSTAMP:20260420T231411
CREATED:20181206T152241Z
LAST-MODIFIED:20181206T152929Z
UID:16747-1546437600-1546443000@masshiremncareers.com
SUMMARY:Career Development Options (Espanol)
DESCRIPTION:Interesado en obtener asesoramiento profesional individual? ¿Buscas fondos para pagar la escolarización o entrenamiento? Venga y aprenda sobre las opciones de su trayectoria profesional y cómo podemos ayudarlo en su búsqueda de trabajo. Esta sesión de información explica en detalle los requisitos de elegibilidad para acceder a estos servicios financiados a través del programa WIOA. \nInterested in getting one-on-one career counseling to help with your job search? Need grant funds for schooling or training? Come learn about your career path options and how we can help you in your job search. This information session explains in detail about the eligibility requirements for accessing these grant-funded services through WIOA.
URL:https://masshiremncareers.com/event/career-development-options-espanol/
LOCATION:Chelsea Career Center\, 4 Gerrish Ave\, Chelsea\, MA\, 02150\, United States
CATEGORIES:Chelsea Center Event,Workshops
END:VEVENT
BEGIN:VEVENT
DTSTART;TZID=America/New_York:20181231T133000
DTEND;TZID=America/New_York:20181231T150000
DTSTAMP:20260420T231411
CREATED:20181029T202247Z
LAST-MODIFIED:20181105T154332Z
UID:16217-1546263000-1546268400@masshiremncareers.com
SUMMARY:Career Development Options
DESCRIPTION:Interested in getting one-on-one career counseling to help with your job search? Need grant funds for schooling or training? Come learn about your career path options and how we can help you in your job search. This information session explains in detail about the eligibility requirements for accessing these grant-funded services through WIOA.
URL:https://masshiremncareers.com/event/career-development-options-13-2018-12-31/
LOCATION:Cambridge Career Center\, 186 Alewife Brook Parkway\, Cambridge\, MA\, 02138\, United States
CATEGORIES:Cambridge Center Event,Workshops
END:VEVENT
BEGIN:VEVENT
DTSTART;TZID=America/New_York:20181228T100000
DTEND;TZID=America/New_York:20181228T113000
DTSTAMP:20260420T231411
CREATED:20181030T173301Z
LAST-MODIFIED:20181121T165858Z
UID:16379-1545991200-1545996600@masshiremncareers.com
SUMMARY:Career Development Options
DESCRIPTION:Interested in getting one-on-one career counseling to help with your job search? Need grant funds for schooling or training? Come learn about your career path options and how we can help you in your job search. This information session explains in detail about the eligibility requirements for accessing these grant-funded services through WIOA.
URL:https://masshiremncareers.com/event/career-development-options-14-2018-12-28/
LOCATION:Woburn Career Center\, 100 Trade Center\, Suite G100\, Woburn\, MA\, 01801\, United States
CATEGORIES:Woburn Center Event,Workshops
END:VEVENT
BEGIN:VEVENT
DTSTART;TZID=America/New_York:20181226T140000
DTEND;TZID=America/New_York:20181226T153000
DTSTAMP:20260420T231411
CREATED:20181030T204959Z
LAST-MODIFIED:20181105T152408Z
UID:16419-1545832800-1545838200@masshiremncareers.com
SUMMARY:Career Development Options
DESCRIPTION:Interested in getting one-on-one career counseling to help with your job search? Need grant funds for schooling or training? Come learn about your career path options and how we can help you in your job search. This information session explains in detail about the eligibility requirements for accessing these grant-funded services through WIOA.
URL:https://masshiremncareers.com/event/career-development-options-16-2018-12-26/
LOCATION:Chelsea Career Center\, 4 Gerrish Ave\, Chelsea\, MA\, 02150\, United States
CATEGORIES:Chelsea Center Event,Workshops
END:VEVENT
BEGIN:VEVENT
DTSTART;TZID=America/New_York:20181224T100000
DTEND;TZID=America/New_York:20181224T113000
DTSTAMP:20260420T231411
CREATED:20181029T202057Z
LAST-MODIFIED:20181029T202057Z
UID:16214-1545645600-1545651000@masshiremncareers.com
SUMMARY:Career Development Options
DESCRIPTION:Interested in getting one-on-one career counseling to help with your job search? Need grant funds for schooling or training? Come learn about your career path options and how we can help you in your job search. This information session explains in detail about the eligibility requirements for accessing these grant-funded services through WIOA.
URL:https://masshiremncareers.com/event/career-development-options-12-2018-12-24/
LOCATION:Cambridge Career Center\, 186 Alewife Brook Parkway\, Cambridge\, MA\, 02138\, United States
CATEGORIES:Cambridge Center Event,Workshops
END:VEVENT
BEGIN:VEVENT
DTSTART;TZID=America/New_York:20181221T100000
DTEND;TZID=America/New_York:20181221T113000
DTSTAMP:20260420T231411
CREATED:20181030T173301Z
LAST-MODIFIED:20181121T165858Z
UID:16378-1545386400-1545391800@masshiremncareers.com
SUMMARY:Career Development Options
DESCRIPTION:Interested in getting one-on-one career counseling to help with your job search? Need grant funds for schooling or training? Come learn about your career path options and how we can help you in your job search. This information session explains in detail about the eligibility requirements for accessing these grant-funded services through WIOA.
URL:https://masshiremncareers.com/event/career-development-options-14-2018-12-21/
LOCATION:Woburn Career Center\, 100 Trade Center\, Suite G100\, Woburn\, MA\, 01801\, United States
CATEGORIES:Woburn Center Event,Workshops
END:VEVENT
BEGIN:VEVENT
DTSTART;TZID=America/New_York:20181217T140000
DTEND;TZID=America/New_York:20181217T160000
DTSTAMP:20260420T231411
CREATED:20181123T185011Z
LAST-MODIFIED:20181123T185011Z
UID:16609-1545055200-1545062400@masshiremncareers.com
SUMMARY:Career Development Options
DESCRIPTION:Interested in getting one-on-one career counseling to help with your job search? Need grant funds for schooling or training? Come learn about your career path options and how we can help you in your job search. This information session explains in detail about the eligibility requirements for accessing these grant-funded services through WIOA.
URL:https://masshiremncareers.com/event/career-development-options-15-2018-12-17/
LOCATION:Chelsea Career Center\, 4 Gerrish Ave\, Chelsea\, MA\, 02150\, United States
CATEGORIES:Chelsea Center Event
END:VEVENT
END:VCALENDAR