BEGIN:VCALENDAR
VERSION:2.0
PRODID:-//MassHire Metro North Career Center - ECPv6.15.20//NONSGML v1.0//EN
CALSCALE:GREGORIAN
METHOD:PUBLISH
X-ORIGINAL-URL:https://masshiremncareers.com
X-WR-CALDESC:Events for MassHire Metro North Career Center
REFRESH-INTERVAL;VALUE=DURATION:PT1H
X-Robots-Tag:noindex
X-PUBLISHED-TTL:PT1H
BEGIN:VTIMEZONE
TZID:America/New_York
BEGIN:DAYLIGHT
TZOFFSETFROM:-0500
TZOFFSETTO:-0400
TZNAME:EDT
DTSTART:20170312T070000
END:DAYLIGHT
BEGIN:STANDARD
TZOFFSETFROM:-0400
TZOFFSETTO:-0500
TZNAME:EST
DTSTART:20171105T060000
END:STANDARD
BEGIN:DAYLIGHT
TZOFFSETFROM:-0500
TZOFFSETTO:-0400
TZNAME:EDT
DTSTART:20180311T070000
END:DAYLIGHT
BEGIN:STANDARD
TZOFFSETFROM:-0400
TZOFFSETTO:-0500
TZNAME:EST
DTSTART:20181104T060000
END:STANDARD
BEGIN:DAYLIGHT
TZOFFSETFROM:-0500
TZOFFSETTO:-0400
TZNAME:EDT
DTSTART:20190310T070000
END:DAYLIGHT
BEGIN:STANDARD
TZOFFSETFROM:-0400
TZOFFSETTO:-0500
TZNAME:EST
DTSTART:20191103T060000
END:STANDARD
END:VTIMEZONE
BEGIN:VEVENT
DTSTART;TZID=America/New_York:20181218T133000
DTEND;TZID=America/New_York:20181218T163000
DTSTAMP:20260424T005244
CREATED:20181030T204843Z
LAST-MODIFIED:20181030T204843Z
UID:16413-1545139800-1545150600@masshiremncareers.com
SUMMARY:Career Center Seminar (Espanol)
DESCRIPTION:El objetivo principal de este seminario es conectar a los solicitantes de empleo con los dinámicos recursos de búsqueda de empleo disponibles en los Centros Profesionales One-Stop de Massachusetts. ¿El Departamento de Desempleo ha requerido su asistencia? Los proveemos todos los martes. Puede comunicarse con nosotros para hacer una cita. \nThe primary goal of this seminar is to connect job-seekers to the dynamic job search resources available at Massachusetts One-Stop Career Centers. Has the Department of Unemployment required your attendance? We run them every Tuesday. Call us today or book online at JobQuest!
URL:https://masshiremncareers.com/event/career-center-seminar-espanol-4/
LOCATION:Chelsea Career Center\, 4 Gerrish Ave\, Chelsea\, MA\, 02150\, United States
CATEGORIES:Career Center Seminars,Chelsea Center Event
END:VEVENT
BEGIN:VEVENT
DTSTART;TZID=America/New_York:20181218T143000
DTEND;TZID=America/New_York:20181218T163000
DTSTAMP:20260424T005244
CREATED:20181030T174404Z
LAST-MODIFIED:20181030T174404Z
UID:16390-1545143400-1545150600@masshiremncareers.com
SUMMARY:LinkedIn Basics
DESCRIPTION:“What is LinkedIn?”  “How can it help me in my job search?”  Learn why LinkedIn is pivotal to your job search. Gain the attributes of a stronger LinkedIn profile. Master the skills of navigation needed for networking\, interview prep\, and researching your target industries and organizations. We’ll also talk about how the core competencies of your resume can be pulled directly from your LinkedIn account. Come with your questions\, leave with confidence.
URL:https://masshiremncareers.com/event/linkedin-basics-4/
LOCATION:Woburn Career Center\, 100 Trade Center\, Suite G100\, Woburn\, MA\, 01801\, United States
CATEGORIES:Woburn Center Event,Workshops
END:VEVENT
BEGIN:VEVENT
DTSTART;VALUE=DATE:20181219
DTEND;VALUE=DATE:20181220
DTSTAMP:20260424T005244
CREATED:20181101T175410Z
LAST-MODIFIED:20181101T175410Z
UID:16460-1545177600-1545263999@masshiremncareers.com
SUMMARY:Centers Closed - Staff Training
DESCRIPTION:
URL:https://masshiremncareers.com/event/centers-closed-staff-training-2-2018-12-19/
LOCATION:Cambridge Career Center\, 186 Alewife Brook Parkway\, Cambridge\, MA\, 02138\, United States
CATEGORIES:Cambridge Center Event,Chelsea Center Event,Woburn Center Event
END:VEVENT
BEGIN:VEVENT
DTSTART;TZID=America/New_York:20181220T090000
DTEND;TZID=America/New_York:20181220T123000
DTSTAMP:20260424T005244
CREATED:20181030T130940Z
LAST-MODIFIED:20181101T173804Z
UID:16291-1545296400-1545309000@masshiremncareers.com
SUMMARY:PowerPoint 2 ($69)
DESCRIPTION:This class is focused on creating audience-focused presentations while incorporating animation\, transitions\, and sound.  Recommended pre-requisite: PowerPoint 1
URL:https://masshiremncareers.com/event/powerpoint-2-69-2/
LOCATION:Cambridge Career Center\, 186 Alewife Brook Parkway\, Cambridge\, MA\, 02138\, United States
CATEGORIES:Cambridge Center Event,Workshops
END:VEVENT
BEGIN:VEVENT
DTSTART;TZID=America/New_York:20181220T093000
DTEND;TZID=America/New_York:20181220T123000
DTSTAMP:20260424T005244
CREATED:20181029T203255Z
LAST-MODIFIED:20181029T203255Z
UID:16240-1545298200-1545309000@masshiremncareers.com
SUMMARY:Career Center Seminar
DESCRIPTION:The primary goal of this seminar is to connect job-seekers to the dynamic job search resources available at Massachusetts One-Stop Career Centers. Has the Department of Unemployment required your attendance? We run them every Tuesday\, Wednesday and Thursday. Call us today or book online at JobQuest!
URL:https://masshiremncareers.com/event/career-center-seminar-9-2018-12-20/
LOCATION:Cambridge Career Center\, 186 Alewife Brook Parkway\, Cambridge\, MA\, 02138\, United States
CATEGORIES:Cambridge Center Event,Career Center Seminars
END:VEVENT
BEGIN:VEVENT
DTSTART;TZID=America/New_York:20181220T093000
DTEND;TZID=America/New_York:20181220T123000
DTSTAMP:20260424T005244
CREATED:20181030T171305Z
LAST-MODIFIED:20181030T171305Z
UID:16532-1545298200-1545309000@masshiremncareers.com
SUMMARY:Career Center Seminar
DESCRIPTION:The primary goal of this seminar is to connect job-seekers to the dynamic job search resources available at Massachusetts One-Stop Career Centers. Has the Department of Unemployment required your attendance? We run them every Monday\, Wednesday & Thursday. Call us today or book online at JobQuest!
URL:https://masshiremncareers.com/event/career-center-seminar-10-2018-12-20/
LOCATION:Woburn Career Center\, 100 Trade Center\, Suite G100\, Woburn\, MA\, 01801\, United States
CATEGORIES:Career Center Seminars,Woburn Center Event
END:VEVENT
BEGIN:VEVENT
DTSTART;TZID=America/New_York:20181220T100000
DTEND;TZID=America/New_York:20181220T120000
DTSTAMP:20260424T005244
CREATED:20181029T205834Z
LAST-MODIFIED:20181029T205834Z
UID:16274-1545300000-1545307200@masshiremncareers.com
SUMMARY:What's Age Got To Do With It?
DESCRIPTION:Learn how to respond to age-related interview questions and why experience is an advantage in your job search. Topics include discrimination laws\, résumé tips and general strategies. How do you tackle the label “overqualified” and demonstrate your professional attributes as a candidate? Sign up and find out!
URL:https://masshiremncareers.com/event/whats-age-got-to-do-with-it-5/
LOCATION:Cambridge Career Center\, 186 Alewife Brook Parkway\, Cambridge\, MA\, 02138\, United States
CATEGORIES:Cambridge Center Event,Workshops
END:VEVENT
BEGIN:VEVENT
DTSTART;TZID=America/New_York:20181220T100000
DTEND;TZID=America/New_York:20181220T120000
DTSTAMP:20260424T005244
CREATED:20181030T205601Z
LAST-MODIFIED:20181030T205601Z
UID:16427-1545300000-1545307200@masshiremncareers.com
SUMMARY:Resume/Cover Letter Fundamentals
DESCRIPTION:Learn the résumé styles used by professional résumé writers and how to get yours noticed. You’ll be given the tools to determine which style suits your job search best! We’ll look into the mechanics of what makes an effective cover letter. You will learn how to effectively present your experience and skills to tailor to a job description to help land that next interview.
URL:https://masshiremncareers.com/event/resume-cover-letter-fundamentals-6/
LOCATION:Chelsea Career Center\, 4 Gerrish Ave\, Chelsea\, MA\, 02150\, United States
CATEGORIES:Chelsea Center Event,Workshops
END:VEVENT
BEGIN:VEVENT
DTSTART;TZID=America/New_York:20181220T100000
DTEND;TZID=America/New_York:20181220T120000
DTSTAMP:20260424T005244
CREATED:20181126T211430Z
LAST-MODIFIED:20181126T211430Z
UID:16614-1545300000-1545307200@masshiremncareers.com
SUMMARY:PCA Training Info Session
DESCRIPTION:Are you interested in launching a career as a Patient Care Associate (PCA) at Spaulding Rehabilitation Network? \nPartners HealthCare Workforce Development\, in conjunction with the Academy for Healthcare Training\, is offering a free patient Care Associate (CNA) training program where our participants\, upon successful graduation of the program\, will earn dual Nursing Assistant and Home Health Aide certificates\, receive placement assistance focusing on full-time Patient Care Associate employment within the Spaulding Rehabilitation Network\, and will be eligible to sit for the Massachusetts Nurse Aide Certification Exam (within 30 days of program completion) with exam fees covered by Partners HealthCare! \nThe program is 5 weeks long and begins on Jan. 28 and ends on March 1.
URL:https://masshiremncareers.com/event/pca-training-info-session-2018-12-20/
LOCATION:Cambridge Career Center\, 186 Alewife Brook Parkway\, Cambridge\, MA\, 02138\, United States
CATEGORIES:Cambridge Center Event,Workshops
END:VEVENT
BEGIN:VEVENT
DTSTART;TZID=America/New_York:20181220T103000
DTEND;TZID=America/New_York:20181220T140000
DTSTAMP:20260424T005244
CREATED:20181030T173057Z
LAST-MODIFIED:20181030T173057Z
UID:16542-1545301800-1545314400@masshiremncareers.com
SUMMARY:15-Minute Resume Critiques
DESCRIPTION:A 15-minute critique of your résumé. We will determine an appropriate format\, eliminate nonessential information\, and recommend additions to help you rewrite your self-marketing tool. Please bring your most recent résumé. \n(By Appointment)
URL:https://masshiremncareers.com/event/15-minute-resume-critiques-4-2018-12-20/
LOCATION:Woburn Career Center\, 100 Trade Center\, Suite G100\, Woburn\, MA\, 01801\, United States
CATEGORIES:Woburn Center Event,Workshops
END:VEVENT
BEGIN:VEVENT
DTSTART;TZID=America/New_York:20181220T130000
DTEND;TZID=America/New_York:20181220T140000
DTSTAMP:20260424T005244
CREATED:20181029T205719Z
LAST-MODIFIED:20181210T180048Z
UID:16272-1545310800-1545314400@masshiremncareers.com
SUMMARY:Senior Community Service Employment Program (SCSEP) Info Session
DESCRIPTION:Information session that will introduce this return-to-work training program for unemployed job seekers age 55+ who meet low income guidelines.
URL:https://masshiremncareers.com/event/senior-community-service-employment-program-scsep-info-session-2/
LOCATION:Cambridge Career Center\, 186 Alewife Brook Parkway\, Cambridge\, MA\, 02138\, United States
CATEGORIES:Cambridge Center Event,Workshops
END:VEVENT
BEGIN:VEVENT
DTSTART;TZID=America/New_York:20181220T133000
DTEND;TZID=America/New_York:20181220T153000
DTSTAMP:20260424T005244
CREATED:20181030T170510Z
LAST-MODIFIED:20181030T170510Z
UID:16320-1545312600-1545319800@masshiremncareers.com
SUMMARY:LMI (Labor Market Information): Outlook of Your Job Search
DESCRIPTION:What’s the outlook of your job search? We’ll find out by investigating the seven points of the MA Unemployment Labor Market Research Worksheet. Learn to research target industries\, organizations and positions. Review salary ranges and industry trends. Master self-assessment and the informational interview. Register today and learn how these keys serve as the working bedrock of a smart job search. \nFor this workshop\, please come prepared with at least one target industry and/or a target job title that you are considering on your job search.
URL:https://masshiremncareers.com/event/lmi-labor-market-information-outlook-of-your-job-search-2/
LOCATION:Woburn Career Center\, 100 Trade Center\, Suite G100\, Woburn\, MA\, 01801\, United States
CATEGORIES:Woburn Center Event,Workshops
END:VEVENT
BEGIN:VEVENT
DTSTART;TZID=America/New_York:20181220T140000
DTEND;TZID=America/New_York:20181220T150000
DTSTAMP:20260424T005244
CREATED:20181121T185303Z
LAST-MODIFIED:20181121T185303Z
UID:16592-1545314400-1545318000@masshiremncareers.com
SUMMARY:Workers' Rights
DESCRIPTION:Presented by the Office of the Attorney General: Wage and hour law\, child labor laws\, earned sick time\, domestic workers’ rights\, and other rights. \n 
URL:https://masshiremncareers.com/event/workers-rights/
LOCATION:Cambridge Career Center\, 186 Alewife Brook Parkway\, Cambridge\, MA\, 02138\, United States
CATEGORIES:Cambridge Center Event,Workshops
END:VEVENT
BEGIN:VEVENT
DTSTART;TZID=America/New_York:20181220T143000
DTEND;TZID=America/New_York:20181220T153000
DTSTAMP:20260424T005244
CREATED:20181029T210355Z
LAST-MODIFIED:20181029T210355Z
UID:16281-1545316200-1545319800@masshiremncareers.com
SUMMARY:15-Minute Resume Critiques
DESCRIPTION:A 15-minute critique of your résumé. We will determine an appropriate format\, eliminate nonessential information\, and recommend additions to help you rewrite your self-marketing tool. Please bring your most recent résumé.  (By appointment)
URL:https://masshiremncareers.com/event/15-minute-resume-critiques-3-2018-12-20/
LOCATION:Cambridge Career Center\, 186 Alewife Brook Parkway\, Cambridge\, MA\, 02138\, United States
CATEGORIES:Cambridge Center Event
END:VEVENT
BEGIN:VEVENT
DTSTART;TZID=America/New_York:20181221T090000
DTEND;TZID=America/New_York:20181221T123000
DTSTAMP:20260424T005244
CREATED:20181030T131135Z
LAST-MODIFIED:20181101T173848Z
UID:16293-1545382800-1545395400@masshiremncareers.com
SUMMARY:PowerPoint 3 ($79)
DESCRIPTION:Design presentations using masters\, and templates. Customize audio and video to create special effects. Recommended pre-requisite: PowerPoint II
URL:https://masshiremncareers.com/event/powerpoint-3-79-2/
LOCATION:Cambridge Career Center\, 186 Alewife Brook Parkway\, Cambridge\, MA\, 02138\, United States
CATEGORIES:Cambridge Center Event,Workshops
END:VEVENT
BEGIN:VEVENT
DTSTART;TZID=America/New_York:20181221T090000
DTEND;TZID=America/New_York:20181221T160000
DTSTAMP:20260424T005244
CREATED:20181029T203805Z
LAST-MODIFIED:20181029T203805Z
UID:16249-1545382800-1545408000@masshiremncareers.com
SUMMARY:Unemployment Representative Onsite
DESCRIPTION:A representative from the Department of Unemployment will be onsite to answer questions customers have about their claim.
URL:https://masshiremncareers.com/event/unemployment-representative-onsite-3-2018-12-21/
LOCATION:Cambridge Career Center\, 186 Alewife Brook Parkway\, Cambridge\, MA\, 02138\, United States
CATEGORIES:Cambridge Center Event
END:VEVENT
BEGIN:VEVENT
DTSTART;TZID=America/New_York:20181221T100000
DTEND;TZID=America/New_York:20181221T113000
DTSTAMP:20260424T005244
CREATED:20181030T173301Z
LAST-MODIFIED:20181121T165858Z
UID:16378-1545386400-1545391800@masshiremncareers.com
SUMMARY:Career Development Options
DESCRIPTION:Interested in getting one-on-one career counseling to help with your job search? Need grant funds for schooling or training? Come learn about your career path options and how we can help you in your job search. This information session explains in detail about the eligibility requirements for accessing these grant-funded services through WIOA.
URL:https://masshiremncareers.com/event/career-development-options-14-2018-12-21/
LOCATION:Woburn Career Center\, 100 Trade Center\, Suite G100\, Woburn\, MA\, 01801\, United States
CATEGORIES:Woburn Center Event,Workshops
END:VEVENT
BEGIN:VEVENT
DTSTART;TZID=America/New_York:20181221T100000
DTEND;TZID=America/New_York:20181221T120000
DTSTAMP:20260424T005244
CREATED:20181029T203614Z
LAST-MODIFIED:20181029T203614Z
UID:16246-1545386400-1545393600@masshiremncareers.com
SUMMARY:Entrepreneurial Think Tank
DESCRIPTION:Are you ready to run your own business? We’ll help you take the first step. Entrepreneurial Think Tank is a forum for budding entrepreneurs. We will discuss the basics of starting a small business. Is entrepreneurship right for you? Sign up and find out!
URL:https://masshiremncareers.com/event/entrepreneurial-think-tank-3-2018-12-21/
LOCATION:Cambridge Career Center\, 186 Alewife Brook Parkway\, Cambridge\, MA\, 02138\, United States
CATEGORIES:Cambridge Center Event,Workshops
END:VEVENT
BEGIN:VEVENT
DTSTART;TZID=America/New_York:20181221T100000
DTEND;TZID=America/New_York:20181221T120000
DTSTAMP:20260424T005244
CREATED:20181029T210220Z
LAST-MODIFIED:20181029T210220Z
UID:16276-1545386400-1545393600@masshiremncareers.com
SUMMARY:Resume/Cover Letter Fundamentals
DESCRIPTION:Learn the résumé styles used by professional résumé writers and how to get yours noticed. You’ll be given the tools to determine which style suits your job search best! We’ll look into the mechanics of what makes an effective cover letter. You will learn how to effectively present your experience and skills to tailor to a job description to help land that next interview.
URL:https://masshiremncareers.com/event/resume-cover-letter-fundamentals-3/
LOCATION:Cambridge Career Center\, 186 Alewife Brook Parkway\, Cambridge\, MA\, 02138\, United States
CATEGORIES:Cambridge Center Event,Workshops
END:VEVENT
BEGIN:VEVENT
DTSTART;TZID=America/New_York:20181221T100000
DTEND;TZID=America/New_York:20181221T120000
DTSTAMP:20260424T005244
CREATED:20181101T184850Z
LAST-MODIFIED:20181101T184850Z
UID:16469-1545386400-1545393600@masshiremncareers.com
SUMMARY:Staying Positive in the Job Search
DESCRIPTION:Charlie applied to hundreds of positions online and not a single bite! Sidney got to the final interview stage for several career opportunities and consistently struck out. Clarke simply gave up because nothing worked. Does this sound like you? We can help you avoid job search pitfalls like depression\, anxiety and negativity. Join other job seekers who are in the trenches with you. Immediately put into practice stay-calm strategies so you can focus. Together\, we will learn and comprehend the steps to staying positive in the job search.
URL:https://masshiremncareers.com/event/staying-positive-in-the-job-search-2/
LOCATION:Woburn Career Center\, 100 Trade Center\, Suite G100\, Woburn\, MA\, 01801\, United States
CATEGORIES:Woburn Center Event,Workshops
END:VEVENT
BEGIN:VEVENT
DTSTART;TZID=America/New_York:20181224T093000
DTEND;TZID=America/New_York:20181224T123000
DTSTAMP:20260424T005244
CREATED:20181030T171305Z
LAST-MODIFIED:20181030T171305Z
UID:16533-1545643800-1545654600@masshiremncareers.com
SUMMARY:Career Center Seminar
DESCRIPTION:The primary goal of this seminar is to connect job-seekers to the dynamic job search resources available at Massachusetts One-Stop Career Centers. Has the Department of Unemployment required your attendance? We run them every Monday\, Wednesday & Thursday. Call us today or book online at JobQuest!
URL:https://masshiremncareers.com/event/career-center-seminar-10-2018-12-24/
LOCATION:Woburn Career Center\, 100 Trade Center\, Suite G100\, Woburn\, MA\, 01801\, United States
CATEGORIES:Career Center Seminars,Woburn Center Event
END:VEVENT
BEGIN:VEVENT
DTSTART;TZID=America/New_York:20181224T100000
DTEND;TZID=America/New_York:20181224T113000
DTSTAMP:20260424T005244
CREATED:20181029T202057Z
LAST-MODIFIED:20181029T202057Z
UID:16214-1545645600-1545651000@masshiremncareers.com
SUMMARY:Career Development Options
DESCRIPTION:Interested in getting one-on-one career counseling to help with your job search? Need grant funds for schooling or training? Come learn about your career path options and how we can help you in your job search. This information session explains in detail about the eligibility requirements for accessing these grant-funded services through WIOA.
URL:https://masshiremncareers.com/event/career-development-options-12-2018-12-24/
LOCATION:Cambridge Career Center\, 186 Alewife Brook Parkway\, Cambridge\, MA\, 02138\, United States
CATEGORIES:Cambridge Center Event,Workshops
END:VEVENT
BEGIN:VEVENT
DTSTART;VALUE=DATE:20181225
DTEND;VALUE=DATE:20181226
DTSTAMP:20260424T005244
CREATED:20181030T132106Z
LAST-MODIFIED:20181030T132106Z
UID:16305-1545696000-1545782399@masshiremncareers.com
SUMMARY:Christmas Day - Centers Closed
DESCRIPTION:
URL:https://masshiremncareers.com/event/christmas-day-centers-closed/
LOCATION:Cambridge Career Center\, 186 Alewife Brook Parkway\, Cambridge\, MA\, 02138\, United States
CATEGORIES:Cambridge Center Event,Chelsea Center Event,Woburn Center Event
END:VEVENT
BEGIN:VEVENT
DTSTART;TZID=America/New_York:20181226T090000
DTEND;TZID=America/New_York:20181226T120000
DTSTAMP:20260424T005244
CREATED:20181030T205359Z
LAST-MODIFIED:20181030T205359Z
UID:16424-1545814800-1545825600@masshiremncareers.com
SUMMARY:Department of Transitional Assistance
DESCRIPTION:A representative from the Department of Transitional Assistance will be onsite to answer questions about benefits available from the state.
URL:https://masshiremncareers.com/event/department-of-transitional-assistance-3-2018-12-26/
LOCATION:Chelsea Career Center\, 4 Gerrish Ave\, Chelsea\, MA\, 02150\, United States
CATEGORIES:Chelsea Center Event
END:VEVENT
BEGIN:VEVENT
DTSTART;TZID=America/New_York:20181226T093000
DTEND;TZID=America/New_York:20181226T123000
DTSTAMP:20260424T005244
CREATED:20181029T203150Z
LAST-MODIFIED:20181029T203150Z
UID:16236-1545816600-1545827400@masshiremncareers.com
SUMMARY:Career Center Seminar
DESCRIPTION:The primary goal of this seminar is to connect job-seekers to the dynamic job search resources available at Massachusetts One-Stop Career Centers. Has the Department of Unemployment required your attendance? We run them every Tuesday\, Wednesday and Thursday. Call us today or book online at JobQuest!
URL:https://masshiremncareers.com/event/career-center-seminar-8-2018-12-26/
LOCATION:Cambridge Career Center\, 186 Alewife Brook Parkway\, Cambridge\, MA\, 02138\, United States
CATEGORIES:Cambridge Center Event,Career Center Seminars
END:VEVENT
BEGIN:VEVENT
DTSTART;TZID=America/New_York:20181226T100000
DTEND;TZID=America/New_York:20181226T120000
DTSTAMP:20260424T005244
CREATED:20181029T204008Z
LAST-MODIFIED:20181101T174415Z
UID:16253-1545818400-1545825600@masshiremncareers.com
SUMMARY:JobQuest: Completing Your Profile
DESCRIPTION:Let’s look under the hood of JobQuest\, Massachusetts’ job search engine. What are the keys to connecting to employers? How can hiring managers and industry insiders find you? Join us and get back to work that much faster!
URL:https://masshiremncareers.com/event/jobquest-completing-your-profile-4-2018-12-28/
LOCATION:Cambridge Career Center\, 186 Alewife Brook Parkway\, Cambridge\, MA\, 02138\, United States
CATEGORIES:Cambridge Center Event,Workshops
END:VEVENT
BEGIN:VEVENT
DTSTART;TZID=America/New_York:20181226T100000
DTEND;TZID=America/New_York:20181226T130000
DTSTAMP:20260424T005244
CREATED:20181030T171606Z
LAST-MODIFIED:20181030T171606Z
UID:16350-1545818400-1545829200@masshiremncareers.com
SUMMARY:Career Center Seminar
DESCRIPTION:The primary goal of this seminar is to connect job-seekers to the dynamic job search resources available at Massachusetts One-Stop Career Centers. Has the Department of Unemployment required your attendance? We run them every Monday\, Wednesday & Thursday. Call us today or book online at JobQuest!
URL:https://masshiremncareers.com/event/career-center-seminar-11-2018-12-26/
LOCATION:Woburn Career Center\, 100 Trade Center\, Suite G100\, Woburn\, MA\, 01801\, United States
CATEGORIES:Career Center Seminars,Woburn Center Event
END:VEVENT
BEGIN:VEVENT
DTSTART;TZID=America/New_York:20181226T103000
DTEND;TZID=America/New_York:20181226T123000
DTSTAMP:20260424T005244
CREATED:20181030T172403Z
LAST-MODIFIED:20181105T162918Z
UID:16358-1545820200-1545827400@masshiremncareers.com
SUMMARY:Resume/Cover Letter Fundamentals
DESCRIPTION:Learn the résumé styles used by professional résumé writers and how to get yours noticed. You’ll be given the tools to determine which style suits your job search best! We’ll look into the mechanics of what makes an effective cover letter. You will learn how to effectively present your experience and skills to tailor to a job description to help land that next interview.
URL:https://masshiremncareers.com/event/resume-cover-letter-fundamentals-5-2018-12-26/
LOCATION:Woburn Career Center\, 100 Trade Center\, Suite G100\, Woburn\, MA\, 01801\, United States
CATEGORIES:Woburn Center Event,Workshops
END:VEVENT
BEGIN:VEVENT
DTSTART;TZID=America/New_York:20181226T103000
DTEND;TZID=America/New_York:20181226T140000
DTSTAMP:20260424T005244
CREATED:20181030T173057Z
LAST-MODIFIED:20181030T173057Z
UID:16543-1545820200-1545832800@masshiremncareers.com
SUMMARY:15-Minute Resume Critiques
DESCRIPTION:A 15-minute critique of your résumé. We will determine an appropriate format\, eliminate nonessential information\, and recommend additions to help you rewrite your self-marketing tool. Please bring your most recent résumé. \n(By Appointment)
URL:https://masshiremncareers.com/event/15-minute-resume-critiques-4-2018-12-26/
LOCATION:Woburn Career Center\, 100 Trade Center\, Suite G100\, Woburn\, MA\, 01801\, United States
CATEGORIES:Woburn Center Event,Workshops
END:VEVENT
BEGIN:VEVENT
DTSTART;TZID=America/New_York:20181226T133000
DTEND;TZID=America/New_York:20181226T153000
DTSTAMP:20260424T005244
CREATED:20181029T204725Z
LAST-MODIFIED:20181101T175136Z
UID:16263-1545831000-1545838200@masshiremncareers.com
SUMMARY:LMI (Labor Market Information): Outlook of Your Job Search
DESCRIPTION:What’s the outlook of your job search? We’ll find out by investigating the seven points of the MA Unemployment Labor Market Research Worksheet. Learn to research target industries\, organizations and positions. Review salary ranges and industry trends. Master self-assessment and the informational interview. Register today and learn how these keys serve as the working bedrock of a smart job search. (2 hours) For this workshop\, please come prepared with at least one target industry and/or a target job title that you are considering on your job search.
URL:https://masshiremncareers.com/event/lmi-labor-market-information-outlook-of-your-job-search-2018-12-26/
LOCATION:Cambridge Career Center\, 186 Alewife Brook Parkway\, Cambridge\, MA\, 02138\, United States
CATEGORIES:Cambridge Center Event,Workshops
END:VEVENT
END:VCALENDAR