BEGIN:VCALENDAR
VERSION:2.0
PRODID:-//MassHire Metro North Career Center - ECPv6.15.20//NONSGML v1.0//EN
CALSCALE:GREGORIAN
METHOD:PUBLISH
X-WR-CALNAME:MassHire Metro North Career Center
X-ORIGINAL-URL:https://masshiremncareers.com
X-WR-CALDESC:Events for MassHire Metro North Career Center
REFRESH-INTERVAL;VALUE=DURATION:PT1H
X-Robots-Tag:noindex
X-PUBLISHED-TTL:PT1H
BEGIN:VTIMEZONE
TZID:America/New_York
BEGIN:DAYLIGHT
TZOFFSETFROM:-0500
TZOFFSETTO:-0400
TZNAME:EDT
DTSTART:20190310T070000
END:DAYLIGHT
BEGIN:STANDARD
TZOFFSETFROM:-0400
TZOFFSETTO:-0500
TZNAME:EST
DTSTART:20191103T060000
END:STANDARD
BEGIN:DAYLIGHT
TZOFFSETFROM:-0500
TZOFFSETTO:-0400
TZNAME:EDT
DTSTART:20200308T070000
END:DAYLIGHT
BEGIN:STANDARD
TZOFFSETFROM:-0400
TZOFFSETTO:-0500
TZNAME:EST
DTSTART:20201101T060000
END:STANDARD
BEGIN:DAYLIGHT
TZOFFSETFROM:-0500
TZOFFSETTO:-0400
TZNAME:EDT
DTSTART:20210314T070000
END:DAYLIGHT
BEGIN:STANDARD
TZOFFSETFROM:-0400
TZOFFSETTO:-0500
TZNAME:EST
DTSTART:20211107T060000
END:STANDARD
END:VTIMEZONE
BEGIN:VEVENT
DTSTART;TZID=America/New_York:20200107T143000
DTEND;TZID=America/New_York:20200107T153000
DTSTAMP:20260421T011225
CREATED:20200102T154856Z
LAST-MODIFIED:20200102T154856Z
UID:19930-1578407400-1578411000@masshiremncareers.com
SUMMARY:Advanced Manufacturing Training Info
DESCRIPTION:FREE TRAINING\nCome attend an information session to learn about training programs in advanced manufacturing. \nStart working in a high demand industry in Aerospace\, Defense\, Medical Device\, Computer & Electronic\, Pharmaceutical and Medicine. \nCome learn about advanced manufacturing opportunities in Welding\nElectronics or CNC Operator. Classes start soon.
URL:https://masshiremncareers.com/event/advanced-manufacturing-training-info-9/
LOCATION:Cambridge Career Center\, 186 Alewife Brook Parkway\, Cambridge\, MA\, 02138\, United States
CATEGORIES:Woburn Center Event
END:VEVENT
BEGIN:VEVENT
DTSTART;TZID=America/New_York:20200107T170000
DTEND;TZID=America/New_York:20200107T183000
DTSTAMP:20260421T011225
CREATED:20191220T150719Z
LAST-MODIFIED:20191220T151112Z
UID:19835-1578416400-1578421800@masshiremncareers.com
SUMMARY:Networking Group
DESCRIPTION:This exciting group is for professionals interested in expanding their network\, learning more about their field or a new field\, advancing their careers and/or creating new business opportunities. \nEach meeting will be a little different\, you do not need to attend every meeting. Attend as often as you can. \nRegistration is required to attend. Please email Lisa\nlchakalos-ryan@mhmncc.com and include your Jobseeker ID number.
URL:https://masshiremncareers.com/event/networking-event/
LOCATION:Woburn Career Center\, 100 Trade Center\, Suite G100\, Woburn\, MA\, 01801\, United States
CATEGORIES:Woburn Center Event
END:VEVENT
BEGIN:VEVENT
DTSTART;TZID=America/New_York:20200108T083000
DTEND;TZID=America/New_York:20200108T153000
DTSTAMP:20260421T011225
CREATED:20200102T164845Z
LAST-MODIFIED:20200102T164845Z
UID:19964-1578472200-1578497400@masshiremncareers.com
SUMMARY:Unemployment Representative Onsite
DESCRIPTION:A representative from the Department of Unemployment Assistance will be onsite to answer customers’ questions about their claims.
URL:https://masshiremncareers.com/event/unemployment-representative-onsite-29/
LOCATION:Woburn Career Center\, 100 Trade Center\, Suite G100\, Woburn\, MA\, 01801\, United States
CATEGORIES:Woburn Center Event
END:VEVENT
BEGIN:VEVENT
DTSTART;TZID=America/New_York:20200108T090000
DTEND;TZID=America/New_York:20200108T123000
DTSTAMP:20260421T011225
CREATED:20191202T155834Z
LAST-MODIFIED:20191202T155834Z
UID:19677-1578474000-1578486600@masshiremncareers.com
SUMMARY:Word 2 ($59)
DESCRIPTION:This course is designed to create and modify complex documents with the use of tabs\, tables and columns. (3.5 Hours) $59 Recommended pre-requisite: Word 1
URL:https://masshiremncareers.com/event/word-2-59-4/
LOCATION:Cambridge Career Center\, 186 Alewife Brook Parkway\, Cambridge\, MA\, 02138\, United States
CATEGORIES:Cambridge Center Event,Workshops
END:VEVENT
BEGIN:VEVENT
DTSTART;TZID=America/New_York:20200108T100000
DTEND;TZID=America/New_York:20200108T120000
DTSTAMP:20260421T011225
CREATED:20191202T151640Z
LAST-MODIFIED:20191202T151640Z
UID:19641-1578477600-1578484800@masshiremncareers.com
SUMMARY:What's Age Got To Do With It?
DESCRIPTION:Learn how to respond to age-related interview questions and why experience is an advantage in your job search. Topics include discrimination\, résumé tips and general strategies.  How do you tackle the label “overqualified” and demonstrate your professional attributes as a candidate? Sign up and find out!\n(2.5 Hours)
URL:https://masshiremncareers.com/event/whats-age-got-to-do-with-it-25/
LOCATION:Woburn Career Center\, 100 Trade Center\, Suite G100\, Woburn\, MA\, 01801\, United States
CATEGORIES:Woburn Center Event,Workshops
END:VEVENT
BEGIN:VEVENT
DTSTART;TZID=America/New_York:20200108T100000
DTEND;TZID=America/New_York:20200108T120000
DTSTAMP:20260421T011225
CREATED:20191202T172503Z
LAST-MODIFIED:20191202T172503Z
UID:19743-1578477600-1578484800@masshiremncareers.com
SUMMARY:Department of Transitional Assistance
DESCRIPTION:A representative from the department of transitional assistance will be onsite to answer questions about their programs.
URL:https://masshiremncareers.com/event/department-of-transitional-assistance-14/
LOCATION:Chelsea Career Center\, 4 Gerrish Ave\, Chelsea\, MA\, 02150\, United States
CATEGORIES:Chelsea Center Event
END:VEVENT
BEGIN:VEVENT
DTSTART;TZID=America/New_York:20200108T140000
DTEND;TZID=America/New_York:20200108T153000
DTSTAMP:20260421T011225
CREATED:20191202T153748Z
LAST-MODIFIED:20191202T153748Z
UID:19667-1578492000-1578497400@masshiremncareers.com
SUMMARY:Tailor and Format a Resume
DESCRIPTION:Learn how a professional resume should look. In this session\, you will learn the formatting skills needed to get your resume through the Applicant Tracking Systems and into the hands of your target employer. (1.5 Hours)
URL:https://masshiremncareers.com/event/tailor-and-format-a-resume-4/
LOCATION:Woburn Career Center\, 100 Trade Center\, Suite G100\, Woburn\, MA\, 01801\, United States
CATEGORIES:Woburn Center Event,Workshops
END:VEVENT
BEGIN:VEVENT
DTSTART;TZID=America/New_York:20200108T140000
DTEND;TZID=America/New_York:20200108T153000
DTSTAMP:20260421T011225
CREATED:20191202T172921Z
LAST-MODIFIED:20191202T172921Z
UID:19751-1578492000-1578497400@masshiremncareers.com
SUMMARY:Career Development Options
DESCRIPTION:Interested in getting one-on-one career counseling to help with your job search? Need grant funds for schooling or training? Come learn about your career path options and how we can help you in your job search. This information session explains in detail about the eligibility requirements for accessing these grant-funded services through WIOA. (1.5 Hours)
URL:https://masshiremncareers.com/event/career-development-options-76/
LOCATION:Chelsea Career Center\, 4 Gerrish Ave\, Chelsea\, MA\, 02150\, United States
CATEGORIES:Chelsea Center Event,Workshops
END:VEVENT
BEGIN:VEVENT
DTSTART;TZID=America/New_York:20200108T140000
DTEND;TZID=America/New_York:20200108T160000
DTSTAMP:20260421T011225
CREATED:20191202T164250Z
LAST-MODIFIED:20191202T164250Z
UID:19710-1578492000-1578499200@masshiremncareers.com
SUMMARY:Understanding Retirement Benefits
DESCRIPTION:Are you considering retiring? Wondering when can I start collecting Social Security? Can I withdraw funds from my 401K? At what age must I start drawing down from my IRA? What’s defined benefit? You’ve got a lot of questions—get them answered and put your financial future in order! (2 Hours)
URL:https://masshiremncareers.com/event/understanding-retirement-benefits-28/
LOCATION:Cambridge Career Center\, 186 Alewife Brook Parkway\, Cambridge\, MA\, 02138\, United States
CATEGORIES:Cambridge Center Event,Workshops
END:VEVENT
BEGIN:VEVENT
DTSTART;TZID=America/New_York:20200108T140000
DTEND;TZID=America/New_York:20200108T160000
DTSTAMP:20260421T011225
CREATED:20191223T155035Z
LAST-MODIFIED:20200106T163305Z
UID:19923-1578492000-1578499200@masshiremncareers.com
SUMMARY:Census Recruitment Cambridge
DESCRIPTION:
URL:https://masshiremncareers.com/event/census-recruitment-cambridge/
CATEGORIES:Cambridge Center Event,Job Fairs
END:VEVENT
BEGIN:VEVENT
DTSTART;VALUE=DATE:20200109
DTEND;VALUE=DATE:20200110
DTSTAMP:20260421T011225
CREATED:20191202T154100Z
LAST-MODIFIED:20191202T154100Z
UID:19669-1578528000-1578614399@masshiremncareers.com
SUMMARY:Office Closed for Training
DESCRIPTION:
URL:https://masshiremncareers.com/event/office-closed-for-training/
LOCATION:Woburn Career Center\, 100 Trade Center\, Suite G100\, Woburn\, MA\, 01801\, United States
CATEGORIES:Cambridge Center Event,Chelsea Center Event,Woburn Center Event
END:VEVENT
BEGIN:VEVENT
DTSTART;TZID=America/New_York:20200110T094500
DTEND;TZID=America/New_York:20200110T160000
DTSTAMP:20260421T011225
CREATED:20200102T163701Z
LAST-MODIFIED:20200102T163701Z
UID:19946-1578649500-1578672000@masshiremncareers.com
SUMMARY:Unemployment Representative Onsite
DESCRIPTION:A representative from the Department of Unemployment Assistance will be onsite to answer customers’ questions about their claims.
URL:https://masshiremncareers.com/event/unemployment-representative-onsite-20/
LOCATION:Cambridge Career Center\, 186 Alewife Brook Parkway\, Cambridge\, MA\, 02138\, United States
CATEGORIES:Cambridge Center Event
END:VEVENT
BEGIN:VEVENT
DTSTART;TZID=America/New_York:20200110T100000
DTEND;TZID=America/New_York:20200110T120000
DTSTAMP:20260421T011225
CREATED:20191202T162029Z
LAST-MODIFIED:20191219T204014Z
UID:19700-1578650400-1578657600@masshiremncareers.com
SUMMARY:Entrepreneurial Think Tank
DESCRIPTION:Are you ready to run your own business? We’ll help you take the first step. Entrepreneurial Think Tank is a forum for budding entrepreneurs. We will discuss the basics of starting a small business. Is entrepreneurship right for you? Sign up and find out! (2 hours)
URL:https://masshiremncareers.com/event/entrepreneurial-think-tank-18/
LOCATION:Cambridge Career Center\, 186 Alewife Brook Parkway\, Cambridge\, MA\, 02138\, United States
CATEGORIES:Cambridge Center Event,Workshops
END:VEVENT
BEGIN:VEVENT
DTSTART;TZID=America/New_York:20200110T100000
DTEND;TZID=America/New_York:20200110T120000
DTSTAMP:20260421T011225
CREATED:20191202T164338Z
LAST-MODIFIED:20191202T164338Z
UID:19712-1578650400-1578657600@masshiremncareers.com
SUMMARY:Career Exploration
DESCRIPTION:Not sure what direction to take on career options? What’s your preferred work environment? In this in-depth session\, we will explore how values\, self-assessment and research fuel your career search. Note that this session is not designed to tell you what job to pursue but which types of careers would resonate with your values\, personality and skills based on your in-class participation of a self-directed search.  (2 hours)
URL:https://masshiremncareers.com/event/career-exploration-16/
LOCATION:Cambridge Career Center\, 186 Alewife Brook Parkway\, Cambridge\, MA\, 02138\, United States
CATEGORIES:Cambridge Center Event,Workshops
END:VEVENT
BEGIN:VEVENT
DTSTART;TZID=America/New_York:20200110T100000
DTEND;TZID=America/New_York:20200110T133000
DTSTAMP:20260421T011225
CREATED:20191202T155939Z
LAST-MODIFIED:20191202T155939Z
UID:19679-1578650400-1578663000@masshiremncareers.com
SUMMARY:Word 3 ($69)
DESCRIPTION:In this course you will be able to perform the most advanced functions\, including Mail Merge\, tracking changes and templates. Recommended pre-requisite:  Word I (3.5 Hours) $69
URL:https://masshiremncareers.com/event/word-3-69-4/
LOCATION:Cambridge Career Center\, 186 Alewife Brook Parkway\, Cambridge\, MA\, 02138\, United States
CATEGORIES:Cambridge Center Event,Workshops
END:VEVENT
BEGIN:VEVENT
DTSTART;TZID=America/New_York:20200110T110000
DTEND;TZID=America/New_York:20200110T123000
DTSTAMP:20260421T011225
CREATED:20191202T151732Z
LAST-MODIFIED:20191202T151732Z
UID:19643-1578654000-1578659400@masshiremncareers.com
SUMMARY:Career Development Options
DESCRIPTION:Interested in getting one-on-one career counseling to help with your job search? Need grant funds for schooling or training? Come learn about your career path options and how we can help you in your job search. This information session explains in detail about the eligibility requirements for accessing these grant-funded services through WIOA. (1.5 Hours)
URL:https://masshiremncareers.com/event/career-development-options-72/
LOCATION:Woburn Career Center\, 100 Trade Center\, Suite G100\, Woburn\, MA\, 01801\, United States
CATEGORIES:Woburn Center Event,Workshops
END:VEVENT
BEGIN:VEVENT
DTSTART;TZID=America/New_York:20200110T130000
DTEND;TZID=America/New_York:20200110T140000
DTSTAMP:20260421T011225
CREATED:20200102T154631Z
LAST-MODIFIED:20200102T154631Z
UID:19926-1578661200-1578664800@masshiremncareers.com
SUMMARY:Advanced Manufacturing Training Info
DESCRIPTION:FREE TRAINING\nCome attend an information session to learn about training programs in advanced manufacturing. \nStart working in a high demand industry in Aerospace\, Defense\, Medical Device\, Computer & Electronic\, Pharmaceutical and Medicine. \nCome learn about advanced manufacturing opportunities in Welding\nElectronics or CNC Operator. Classes start soon.
URL:https://masshiremncareers.com/event/advanced-manufacturing-training-info-4/
LOCATION:Cambridge Career Center\, 186 Alewife Brook Parkway\, Cambridge\, MA\, 02138\, United States
CATEGORIES:Cambridge Center Event
END:VEVENT
BEGIN:VEVENT
DTSTART;TZID=America/New_York:20200113T100000
DTEND;TZID=America/New_York:20200113T120000
DTSTAMP:20260421T011225
CREATED:20191202T151915Z
LAST-MODIFIED:20191202T151915Z
UID:19647-1578909600-1578916800@masshiremncareers.com
SUMMARY:LMI: Outlook of Your Job Search
DESCRIPTION:What’s the outlook of your job search? We’ll find out by investigating the seven points of the MA Unemployment Labor Market Research Worksheet. Learn to research target industries\, organizations and positions. Review salary ranges and industry trends. Master self-assessment and the informational interview. Register today and learn how these keys serve as the working bedrock of a smart job search. (2 hours) For this computer-based workshop\, please come prepared with at least one target industry and/or a target job title that you are considering on your job search.
URL:https://masshiremncareers.com/event/lmi-outlook-of-your-job-search-24/
LOCATION:Woburn Career Center\, 100 Trade Center\, Suite G100\, Woburn\, MA\, 01801\, United States
CATEGORIES:Woburn Center Event,Workshops
END:VEVENT
BEGIN:VEVENT
DTSTART;TZID=America/New_York:20200113T130000
DTEND;TZID=America/New_York:20200113T150000
DTSTAMP:20260421T011225
CREATED:20191202T164433Z
LAST-MODIFIED:20191202T164433Z
UID:19714-1578920400-1578927600@masshiremncareers.com
SUMMARY:JobQuest: Completing Your Profile
DESCRIPTION:Let’s look under the hood of JobQuest\, Massachusetts’ job search engine. What are the keys to connecting to employers?  How can hiring managers and industry insiders find you? Join us for this computer-based and hands-on workshop and get back to work that much faster! (2 hours)
URL:https://masshiremncareers.com/event/jobquest-completing-your-profile-38/
LOCATION:Cambridge Career Center\, 186 Alewife Brook Parkway\, Cambridge\, MA\, 02138\, United States
CATEGORIES:Cambridge Center Event,Workshops
END:VEVENT
BEGIN:VEVENT
DTSTART;TZID=America/New_York:20200114T083000
DTEND;TZID=America/New_York:20200114T160000
DTSTAMP:20260421T011225
CREATED:20200102T163744Z
LAST-MODIFIED:20200102T163744Z
UID:19948-1578990600-1579017600@masshiremncareers.com
SUMMARY:Unemployment Representative Onsite
DESCRIPTION:A representative from the Department of Unemployment Assistance will be onsite to answer customers’ questions about their claims.
URL:https://masshiremncareers.com/event/unemployment-representative-onsite-21/
LOCATION:Cambridge Career Center\, 186 Alewife Brook Parkway\, Cambridge\, MA\, 02138\, United States
CATEGORIES:Cambridge Center Event
END:VEVENT
BEGIN:VEVENT
DTSTART;TZID=America/New_York:20200114T090000
DTEND;TZID=America/New_York:20200114T120000
DTSTAMP:20260421T011225
CREATED:20191202T160034Z
LAST-MODIFIED:20191202T160034Z
UID:19681-1578992400-1579003200@masshiremncareers.com
SUMMARY:PowerPoint 1
DESCRIPTION:This course is designed to provide a working knowledge of Microsoft PowerPoint. You will learn to create\, design\, and deliver presentations. (3 Hours)
URL:https://masshiremncareers.com/event/powerpoint-1-5/
LOCATION:Cambridge Career Center\, 186 Alewife Brook Parkway\, Cambridge\, MA\, 02138\, United States
CATEGORIES:Cambridge Center Event,Workshops
END:VEVENT
BEGIN:VEVENT
DTSTART;TZID=America/New_York:20200114T100000
DTEND;TZID=America/New_York:20200114T120000
DTSTAMP:20260421T011225
CREATED:20200113T162358Z
LAST-MODIFIED:20200113T162358Z
UID:20010-1578996000-1579003200@masshiremncareers.com
SUMMARY:The Counselor Is In!
DESCRIPTION:Need to speak with a career counselor for next steps in your job search? Have a quick question about your resume\, job search strategy\, interview prep or networking? Come in and speak with the counselor during walk-in hours. Other times by appointment.
URL:https://masshiremncareers.com/event/the-counselor-is-in-2/
LOCATION:Cambridge Career Center\, 186 Alewife Brook Parkway\, Cambridge\, MA\, 02138\, United States
CATEGORIES:Cambridge Center Event
END:VEVENT
BEGIN:VEVENT
DTSTART;TZID=America/New_York:20200114T110000
DTEND;TZID=America/New_York:20200114T120000
DTSTAMP:20260421T011225
CREATED:20200102T154938Z
LAST-MODIFIED:20200102T154938Z
UID:19932-1578999600-1579003200@masshiremncareers.com
SUMMARY:Advanced Manufacturing Training Info
DESCRIPTION:FREE TRAINING\nCome attend an information session to learn about training programs in advanced manufacturing. \nStart working in a high demand industry in Aerospace\, Defense\, Medical Device\, Computer & Electronic\, Pharmaceutical and Medicine. \nCome learn about advanced manufacturing opportunities in Welding\nElectronics or CNC Operator. Classes start soon.
URL:https://masshiremncareers.com/event/advanced-manufacturing-training-info-10/
LOCATION:Wilmington Memorial Library\, 175 Middlesex Avenue\, Wilmington\, MA\, 01887\, United States
CATEGORIES:Woburn Center Event
END:VEVENT
BEGIN:VEVENT
DTSTART;TZID=America/New_York:20200114T130000
DTEND;TZID=America/New_York:20200114T153000
DTSTAMP:20260421T011225
CREATED:20191202T164643Z
LAST-MODIFIED:20191202T164643Z
UID:19716-1579006800-1579015800@masshiremncareers.com
SUMMARY:Interviewing Fundamentals
DESCRIPTION:Is your resume getting your foot in the door but you’re not advancing beyond the interview? Come and learn the best practices of a successful in-person job interview!  We will discuss research\, CAR Statements\, post-interview follow-up and the importance of non-work related activities.  We will also explore how best to navigate an interview’s behavioral and traditional questions. (2.5 Hours)
URL:https://masshiremncareers.com/event/interviewing-fundamentals-31/
LOCATION:Cambridge Career Center\, 186 Alewife Brook Parkway\, Cambridge\, MA\, 02138\, United States
CATEGORIES:Cambridge Center Event,Workshops
END:VEVENT
BEGIN:VEVENT
DTSTART;TZID=America/New_York:20200115T083000
DTEND;TZID=America/New_York:20200115T153000
DTSTAMP:20260421T011225
CREATED:20200102T165012Z
LAST-MODIFIED:20200102T165012Z
UID:19966-1579077000-1579102200@masshiremncareers.com
SUMMARY:Unemployment Representative Onsite
DESCRIPTION:A representative from the Department of Unemployment Assistance will be onsite to answer customers’ questions about their claims.
URL:https://masshiremncareers.com/event/unemployment-representative-onsite-30/
LOCATION:Woburn Career Center\, 100 Trade Center\, Suite G100\, Woburn\, MA\, 01801\, United States
CATEGORIES:Woburn Center Event
END:VEVENT
BEGIN:VEVENT
DTSTART;TZID=America/New_York:20200115T090000
DTEND;TZID=America/New_York:20200115T123000
DTSTAMP:20260421T011225
CREATED:20191202T160114Z
LAST-MODIFIED:20191202T160114Z
UID:19683-1579078800-1579091400@masshiremncareers.com
SUMMARY:PowerPoint 2 ($59)
DESCRIPTION:This class is focused on creating audience-focused presentations while incorporating animation\, transitions\, and sound. (3.5 Hours) $59 Recommended pre-requisite: PowerPoint 1
URL:https://masshiremncareers.com/event/powerpoint-2-59-4/
LOCATION:Cambridge Career Center\, 186 Alewife Brook Parkway\, Cambridge\, MA\, 02138\, United States
CATEGORIES:Cambridge Center Event,Workshops
END:VEVENT
BEGIN:VEVENT
DTSTART;TZID=America/New_York:20200115T093000
DTEND;TZID=America/New_York:20200115T113000
DTSTAMP:20260421T011225
CREATED:20191223T154615Z
LAST-MODIFIED:20191223T154615Z
UID:19918-1579080600-1579087800@masshiremncareers.com
SUMMARY:Census Recruitment Woburn
DESCRIPTION:
URL:https://masshiremncareers.com/event/census-recruitment-woburn/
CATEGORIES:Job Fairs,Woburn Center Event
END:VEVENT
BEGIN:VEVENT
DTSTART;TZID=America/New_York:20200115T100000
DTEND;TZID=America/New_York:20200115T120000
DTSTAMP:20260421T011225
CREATED:20191202T164757Z
LAST-MODIFIED:20191202T164757Z
UID:19718-1579082400-1579089600@masshiremncareers.com
SUMMARY:Understanding Social Security
DESCRIPTION:Learn about the common mistakes people make when signing up for Social Security. New legislation has changed the rules and knowing how this affects you can help you avoid costly mistakes. Hear about the new claiming rules for married couples\, divorcing individuals and minor children. (2 Hours)
URL:https://masshiremncareers.com/event/understanding-social-security-24/
LOCATION:Cambridge Career Center\, 186 Alewife Brook Parkway\, Cambridge\, MA\, 02138\, United States
CATEGORIES:Cambridge Center Event,Workshops
END:VEVENT
BEGIN:VEVENT
DTSTART;TZID=America/New_York:20200115T100000
DTEND;TZID=America/New_York:20200115T120000
DTSTAMP:20260421T011225
CREATED:20191202T172629Z
LAST-MODIFIED:20191202T172629Z
UID:19745-1579082400-1579089600@masshiremncareers.com
SUMMARY:Department of Transitional Assistance
DESCRIPTION:A representative from the department of transitional assistance will be onsite to answer questions about their programs.
URL:https://masshiremncareers.com/event/department-of-transitional-assistance-15/
LOCATION:Chelsea Career Center\, 4 Gerrish Ave\, Chelsea\, MA\, 02150\, United States
CATEGORIES:Chelsea Center Event
END:VEVENT
BEGIN:VEVENT
DTSTART;TZID=America/New_York:20200115T130000
DTEND;TZID=America/New_York:20200115T150000
DTSTAMP:20260421T011225
CREATED:20191202T152045Z
LAST-MODIFIED:20191202T152045Z
UID:19649-1579093200-1579100400@masshiremncareers.com
SUMMARY:LinkedIn Basics
DESCRIPTION:“What is LinkedIn?”  “How can it help me in my job search?”  “I signed up long ago but haven’t looked at it in ages.”  Sound familiar? We can help! Learn why LinkedIn is pivotal to your job search. Gain the attributes of a stronger LinkedIn profile. Master the skills of navigation needed for networking\, interview prep\, and researching your target industries and organizations. We’ll also talk about how the core competencies of your resume can be pulled directly from your LinkedIn account. Come with your questions\, leave with confidence. (2 hours)
URL:https://masshiremncareers.com/event/linkedin-basics-33/
LOCATION:Woburn Career Center\, 100 Trade Center\, Suite G100\, Woburn\, MA\, 01801\, United States
CATEGORIES:Woburn Center Event,Workshops
END:VEVENT
END:VCALENDAR