BEGIN:VCALENDAR
VERSION:2.0
PRODID:-//MassHire Metro North Career Center - ECPv6.15.20//NONSGML v1.0//EN
CALSCALE:GREGORIAN
METHOD:PUBLISH
X-ORIGINAL-URL:https://masshiremncareers.com
X-WR-CALDESC:Events for MassHire Metro North Career Center
REFRESH-INTERVAL;VALUE=DURATION:PT1H
X-Robots-Tag:noindex
X-PUBLISHED-TTL:PT1H
BEGIN:VTIMEZONE
TZID:America/New_York
BEGIN:DAYLIGHT
TZOFFSETFROM:-0500
TZOFFSETTO:-0400
TZNAME:EDT
DTSTART:20230312T070000
END:DAYLIGHT
BEGIN:STANDARD
TZOFFSETFROM:-0400
TZOFFSETTO:-0500
TZNAME:EST
DTSTART:20231105T060000
END:STANDARD
BEGIN:DAYLIGHT
TZOFFSETFROM:-0500
TZOFFSETTO:-0400
TZNAME:EDT
DTSTART:20240310T070000
END:DAYLIGHT
BEGIN:STANDARD
TZOFFSETFROM:-0400
TZOFFSETTO:-0500
TZNAME:EST
DTSTART:20241103T060000
END:STANDARD
BEGIN:DAYLIGHT
TZOFFSETFROM:-0500
TZOFFSETTO:-0400
TZNAME:EDT
DTSTART:20250309T070000
END:DAYLIGHT
BEGIN:STANDARD
TZOFFSETFROM:-0400
TZOFFSETTO:-0500
TZNAME:EST
DTSTART:20251102T060000
END:STANDARD
END:VTIMEZONE
BEGIN:VEVENT
DTSTART;TZID=America/New_York:20240325T110000
DTEND;TZID=America/New_York:20240325T130000
DTSTAMP:20260420T221006
CREATED:20240109T203822Z
LAST-MODIFIED:20240212T211917Z
UID:27195-1711364400-1711371600@masshiremncareers.com
SUMMARY:Microsoft PowerPoint
DESCRIPTION:Microsoft PowerPoint is a great tool for putting together impressive presentations. In this workshop\, start from scratch and learn PowerPoint beginning with the basics. Develop the skills necessary to feel comfortable opening PowerPoint\, starting a slideshow\, editing\, saving your file\, and even printing\, sharing\, and presenting your document. \nRegister here.
URL:https://masshiremncareers.com/event/microsoft-powerpoint-4/
CATEGORIES:Cambridge Center Event,Workshops
ATTACH;FMTTYPE=image/jpeg:https://masshiremncareers.com/wp-content/uploads/MicrosoftPowerPoint.workshop.Flyer_.20240325.jpg
END:VEVENT
BEGIN:VEVENT
DTSTART;TZID=America/New_York:20240325T140000
DTEND;TZID=America/New_York:20240325T150000
DTSTAMP:20260420T221006
CREATED:20240209T201541Z
LAST-MODIFIED:20240212T211733Z
UID:27306-1711375200-1711378800@masshiremncareers.com
SUMMARY:CAR/STAR webinar
DESCRIPTION:Applying to positions is all about professional accomplishments. Which ones should you use? Join us in this webinar as we explore what elements make for powerful statements about our abilities\, knowledge and experience to prove we are the best candidate for the job. \nRegister here.
URL:https://masshiremncareers.com/event/car-star-webinar-6/
CATEGORIES:Cambridge Center Event,Webinar,Workshops
ATTACH;FMTTYPE=image/jpeg:https://masshiremncareers.com/wp-content/uploads/CARSTAR.webinar.Flyer_.20240325-1.jpg
END:VEVENT
BEGIN:VEVENT
DTSTART;TZID=America/New_York:20240326T100000
DTEND;TZID=America/New_York:20240326T110000
DTSTAMP:20260420T221006
CREATED:20240212T195817Z
LAST-MODIFIED:20240212T195817Z
UID:27356-1711447200-1711450800@masshiremncareers.com
SUMMARY:Thank You Notes & References
DESCRIPTION:You might not realize the value of the Thank You note and references. Both can affect the hiring process. Join Metro North Career Center to learn why you need to send a thank you and how to make it impactful. Who should you choose as references and how do you prepare them? Join us and learn! \nRegister here.
URL:https://masshiremncareers.com/event/thank-you-notes-references-14/
CATEGORIES:Webinar,Woburn Center Event,Workshops
ATTACH;FMTTYPE=image/jpeg:https://masshiremncareers.com/wp-content/uploads/Thank-you-and-References-20240326-1.jpg
END:VEVENT
BEGIN:VEVENT
DTSTART;TZID=America/New_York:20240326T110000
DTEND;TZID=America/New_York:20240326T130000
DTSTAMP:20260420T221006
CREATED:20240109T203959Z
LAST-MODIFIED:20240212T211641Z
UID:27197-1711450800-1711458000@masshiremncareers.com
SUMMARY:Microsoft Excel
DESCRIPTION:Microsoft Excel is a great tool for collecting\, managing\, and organizing data. In this workshop\, start from scratch and learn Excel beginning with the basics. Develop the skills necessary to feel comfortable opening Excel\, starting a workbook\, editing\, saving your file\, and even learn some basic functions to get you started. \nRegister here.
URL:https://masshiremncareers.com/event/microsoft-excel-4/
CATEGORIES:Cambridge Center Event,Workshops
ATTACH;FMTTYPE=image/jpeg:https://masshiremncareers.com/wp-content/uploads/MicrosoftExcel.workshop.Flyer_.20240326.jpg
END:VEVENT
BEGIN:VEVENT
DTSTART;TZID=America/New_York:20240326T130000
DTEND;TZID=America/New_York:20240326T140000
DTSTAMP:20260420T221006
CREATED:20240209T201803Z
LAST-MODIFIED:20240212T211223Z
UID:27308-1711458000-1711461600@masshiremncareers.com
SUMMARY:Info sobre el mercado laboral
DESCRIPTION:Únase a MassHire Metro North para un seminario web que detalla el mapa sobre el viaje de búsqueda de empleo: Información del mercado laboral. \nCubriremos:\n*Ese primer paso fundamental de la autoevaluación\n*Rangos salariales\n*Tendencias del empleo \nRegistrarse aqui
URL:https://masshiremncareers.com/event/info-sobre-el-mercado-laboral-8/
CATEGORIES:Chelsea Center Event,Español,Webinar,Workshops
ATTACH;FMTTYPE=image/jpeg:https://masshiremncareers.com/wp-content/uploads/LMI-mar26.jpg
END:VEVENT
BEGIN:VEVENT
DTSTART;TZID=America/New_York:20240327T100000
DTEND;TZID=America/New_York:20240327T110000
DTSTAMP:20260420T221006
CREATED:20240209T202043Z
LAST-MODIFIED:20240212T211145Z
UID:27310-1711533600-1711537200@masshiremncareers.com
SUMMARY:Networking
DESCRIPTION:Need to learn how to network? Attend this webinar to learn about self-assessments\, networking with people you know and those you don’t. Where to find resources to help you network in this challenging time. \nRegister here.
URL:https://masshiremncareers.com/event/networking-6/
CATEGORIES:Cambridge Center Event,Webinar,Workshops
ATTACH;FMTTYPE=image/jpeg:https://masshiremncareers.com/wp-content/uploads/Networking.webinar.Flyer_.20240327-1.jpg
END:VEVENT
BEGIN:VEVENT
DTSTART;TZID=America/New_York:20240327T110000
DTEND;TZID=America/New_York:20240327T130000
DTSTAMP:20260420T221006
CREATED:20240109T204114Z
LAST-MODIFIED:20240212T211050Z
UID:27199-1711537200-1711544400@masshiremncareers.com
SUMMARY:Microsoft Excel
DESCRIPTION:Microsoft Excel is a great tool for collecting\, managing\, and organizing data. In this workshop\, start from scratch and learn Excel beginning with the basics. Develop the skills necessary to feel comfortable opening Excel\, starting a workbook\, editing\, saving your file\, and even learn some basic functions to get you started. \nRegister here.
URL:https://masshiremncareers.com/event/microsoft-excel-5/
CATEGORIES:Woburn Center Event,Workshops
ATTACH;FMTTYPE=image/jpeg:https://masshiremncareers.com/wp-content/uploads/MicrosoftExcel.workshop.Flyer_.20240327.jpg
END:VEVENT
BEGIN:VEVENT
DTSTART;TZID=America/New_York:20240328T100000
DTEND;TZID=America/New_York:20240328T110000
DTSTAMP:20260420T221006
CREATED:20240212T200037Z
LAST-MODIFIED:20240212T200037Z
UID:27359-1711620000-1711623600@masshiremncareers.com
SUMMARY:Staying Positive in the Job Search
DESCRIPTION:John applied to hundreds of positions online and not a single bite! Laura got to the final interview stage for several career opportunities and consistently struck out. Stanley simply gave up because nothing worked. Does this sound like you? We can help you avoid job search pitfalls like depression\, anxiety and negativity. Join other job seekers who are in the trenches with you. Immediately put into practice stay-calm strategies so you can focus. Together\, we will learn and comprehend the steps to staying positive in the job search. \nRegister here.
URL:https://masshiremncareers.com/event/staying-positive-in-the-job-search-27/
CATEGORIES:Webinar,Woburn Center Event,Workshops
ATTACH;FMTTYPE=image/jpeg:https://masshiremncareers.com/wp-content/uploads/Stay-Pos-Event-Flyer20240328-1.jpg
END:VEVENT
BEGIN:VEVENT
DTSTART;TZID=America/New_York:20240328T110000
DTEND;TZID=America/New_York:20240328T123000
DTSTAMP:20260420T221006
CREATED:20240209T202303Z
LAST-MODIFIED:20240212T210812Z
UID:27312-1711623600-1711629000@masshiremncareers.com
SUMMARY:Conceptos básicos del currículum
DESCRIPTION:Únase a este seminario web para aprender los conceptos básicos de los currículums. ¿Cuáles son los tipos? Qué hacer y qué no hacer\, cuánto tiempo deben durar y qué tan atrás en el tiempo se debe reportar. \nJoin this webinar to learn the basics of resumes. What are the types? Dos and don’ts\, how long they should be and how far back in time to go. This webinar will be in Spanish. \nRegistrarse aqui
URL:https://masshiremncareers.com/event/conceptos-basicos-del-curriculum-9/
CATEGORIES:Chelsea Center Event,Español,Workshops
ATTACH;FMTTYPE=image/jpeg:https://masshiremncareers.com/wp-content/uploads/Resume-Basics-mar28.jpg
END:VEVENT
BEGIN:VEVENT
DTSTART;TZID=America/New_York:20240401T140000
DTEND;TZID=America/New_York:20240401T153000
DTSTAMP:20260420T221006
CREATED:20240325T182717Z
LAST-MODIFIED:20240325T182717Z
UID:27449-1711980000-1711985400@masshiremncareers.com
SUMMARY:Interviewing Dos and Don'ts
DESCRIPTION:What makes a good job interview? Join MassHire in person as we discuss the mechanics behind that question! Let’s discuss Interview Questions to prepare for\, questions to ask\, questions you should not ask\, and signs the interview went well. Through lively discussion\, exercises\, and video clips\, we’ll examine the interview together to get you to the next round! \nRegister here.
URL:https://masshiremncareers.com/event/interviewing-dos-and-donts/
CATEGORIES:Cambridge Center Event,Workshops
ATTACH;FMTTYPE=image/jpeg:https://masshiremncareers.com/wp-content/uploads/Interviewing-Dos-and-Donts.workshop.flyer_.inperson.Cambridge.20240401-1.jpg
END:VEVENT
BEGIN:VEVENT
DTSTART;TZID=America/New_York:20240402T100000
DTEND;TZID=America/New_York:20240402T110000
DTSTAMP:20260420T221006
CREATED:20240325T183006Z
LAST-MODIFIED:20240325T183006Z
UID:27460-1712052000-1712055600@masshiremncareers.com
SUMMARY:Unemployed...What Now?!
DESCRIPTION:No one teaches you how to be unemployed. We’re here to help you sort out this ball of questions. What steps to take first\, what to do next and what to avoid. Being unemployed isn’t easy but getting advice from us is. \nRegister here.
URL:https://masshiremncareers.com/event/unemployed-what-now-9/
CATEGORIES:Webinar,Woburn Center Event,Workshops
ATTACH;FMTTYPE=image/jpeg:https://masshiremncareers.com/wp-content/uploads/Unemployed-What-Now-20240402-1.jpg
END:VEVENT
BEGIN:VEVENT
DTSTART;TZID=America/New_York:20240402T130000
DTEND;TZID=America/New_York:20240402T140000
DTSTAMP:20260420T221006
CREATED:20240325T184805Z
LAST-MODIFIED:20240325T184805Z
UID:27467-1712062800-1712066400@masshiremncareers.com
SUMMARY:Bienvenido a Masshire
DESCRIPTION:
URL:https://masshiremncareers.com/event/bienvenido-a-masshire-2/
CATEGORIES:Chelsea Center Event,Español,Workshops
ATTACH;FMTTYPE=image/jpeg:https://masshiremncareers.com/wp-content/uploads/Bienvenido-a-Masshire-flyer-1-1-1.jpg
END:VEVENT
BEGIN:VEVENT
DTSTART;TZID=America/New_York:20240403T100000
DTEND;TZID=America/New_York:20240403T110000
DTSTAMP:20260420T221006
CREATED:20240325T183148Z
LAST-MODIFIED:20240325T183202Z
UID:27461-1712138400-1712142000@masshiremncareers.com
SUMMARY:Elevate: Live Elevator Pitches
DESCRIPTION:This is a live laboratory for building your elevator pitches. You’ll learn the fundamentals of what goes into a pitch and then have time to craft one. The class will review and provide feedback on as many pitches as time permits. \nRegister here.
URL:https://masshiremncareers.com/event/elevate-live-elevator-pitches-4/
CATEGORIES:Cambridge Center Event,Webinar,Workshops
ATTACH;FMTTYPE=image/jpeg:https://masshiremncareers.com/wp-content/uploads/Elevator-Pitch-Live-Lab.webinar.flyer_.20240403-1.jpg
END:VEVENT
BEGIN:VEVENT
DTSTART;TZID=America/New_York:20240403T100000
DTEND;TZID=America/New_York:20240403T120000
DTSTAMP:20260420T221006
CREATED:20240326T180251Z
LAST-MODIFIED:20240326T180251Z
UID:27511-1712138400-1712145600@masshiremncareers.com
SUMMARY:Recruitment - BI Lahey Health
DESCRIPTION:Beth Israel Lahey Health will be offering Info Sessions and a recruitement event. Come learn about the training and open positions they are offering. \nRegister here.
URL:https://masshiremncareers.com/event/recruitment-bi-lahey-health/
CATEGORIES:Cambridge Center Event,Recruitment,Workshops
ATTACH;FMTTYPE=image/jpeg:https://masshiremncareers.com/wp-content/uploads/20240403-Beth-Israel-Lahey-In-Person-Info-Session-at-MassHire-Cambridge-10am-12pm-1.jpg
END:VEVENT
BEGIN:VEVENT
DTSTART;TZID=America/New_York:20240403T103000
DTEND;TZID=America/New_York:20240403T113000
DTSTAMP:20260420T221006
CREATED:20240325T183414Z
LAST-MODIFIED:20240325T183414Z
UID:27462-1712140200-1712143800@masshiremncareers.com
SUMMARY:Youth Services Information Session
DESCRIPTION:ABCD Career Explorations helps Youth ages 16 – 24 prepare for and begin a career. Attend this session to learn about the program. This program includes a paid internship plus workshops\, field trips\, and opportunities to connect with professionals who are already working in the field. You’ll also receive individual job counseling. \nRegister here.
URL:https://masshiremncareers.com/event/youth-services-information-session-5/
CATEGORIES:Webinar,Woburn Center Event,Workshops
ATTACH;FMTTYPE=image/jpeg:https://masshiremncareers.com/wp-content/uploads/20240403-ABCD-Career-Explorations-Youth-Services-1.jpg
END:VEVENT
BEGIN:VEVENT
DTSTART;TZID=America/New_York:20240404T100000
DTEND;TZID=America/New_York:20240404T110000
DTSTAMP:20260420T221006
CREATED:20240325T183750Z
LAST-MODIFIED:20240325T183750Z
UID:27463-1712224800-1712228400@masshiremncareers.com
SUMMARY:Branding Yourself
DESCRIPTION:Do you need a personal brand? For today’s job search\, you do! Attending this online webinar to learn what a brand is and why you need it. How to curate your social media to reflect your brand. \nRegister here.
URL:https://masshiremncareers.com/event/branding-yourself-6/
CATEGORIES:Webinar,Woburn Center Event,Workshops
ATTACH;FMTTYPE=image/jpeg:https://masshiremncareers.com/wp-content/uploads/Branding-20240404.jpg
END:VEVENT
BEGIN:VEVENT
DTSTART;TZID=America/New_York:20240404T110000
DTEND;TZID=America/New_York:20240404T130000
DTSTAMP:20260420T221006
CREATED:20240325T183958Z
LAST-MODIFIED:20240325T183958Z
UID:27465-1712228400-1712235600@masshiremncareers.com
SUMMARY:Basic Computer Skills 1
DESCRIPTION:Are you new to the world of computers? Do you want to feel more comfortable using technology? This is the course for you! Learn the very basics about computers starting with the terminology. Practice navigating a desktop\, browsing the internet\, and even get an introduction to creating and saving documents using some of the most popular Microsoft Windows 11 applications: Word\, Excel\, and PowerPoint. \nRegister here.
URL:https://masshiremncareers.com/event/basic-computer-skills-1-9/
CATEGORIES:Woburn Center Event,Workshops
ATTACH;FMTTYPE=image/jpeg:https://masshiremncareers.com/wp-content/uploads/Computer-basics-Flyer-in-person-1.jpg
END:VEVENT
BEGIN:VEVENT
DTSTART;TZID=America/New_York:20240404T130000
DTEND;TZID=America/New_York:20240404T150000
DTSTAMP:20260420T221006
CREATED:20240325T185904Z
LAST-MODIFIED:20240325T185904Z
UID:27469-1712235600-1712242800@masshiremncareers.com
SUMMARY:Lo Basico de la Computadora
DESCRIPTION:Te invitamos a explorar juntos con MassHire lo basico de la computadora y sus beneficios\, lograremos aprender un poco mas\, no te lo pierdas. \nRegistrarse aqui.
URL:https://masshiremncareers.com/event/lo-basico-de-la-computadora-11/
CATEGORIES:Chelsea Center Event,Español,Workshops
ATTACH;FMTTYPE=image/jpeg:https://masshiremncareers.com/wp-content/uploads/Computer-basics-Flyer-in-person-1.jpg
END:VEVENT
BEGIN:VEVENT
DTSTART;TZID=America/New_York:20240405T100000
DTEND;TZID=America/New_York:20240405T110000
DTSTAMP:20260420T221006
CREATED:20240325T184347Z
LAST-MODIFIED:20240325T184347Z
UID:27466-1712311200-1712314800@masshiremncareers.com
SUMMARY:Virtual Resume
DESCRIPTION:Join this webinar to learn the basics of resumes. What are the types? Dos and don’ts\, how long they should be and how far back in time to go. \nRegister here.
URL:https://masshiremncareers.com/event/virtual-resume/
CATEGORIES:Webinar,Woburn Center Event,Workshops
ATTACH;FMTTYPE=image/jpeg:https://masshiremncareers.com/wp-content/uploads/Resume-Beyond-Basics-20240405-1.jpg
END:VEVENT
BEGIN:VEVENT
DTSTART;TZID=America/New_York:20240405T110000
DTEND;TZID=America/New_York:20240405T123000
DTSTAMP:20260420T221006
CREATED:20240325T190134Z
LAST-MODIFIED:20240325T190134Z
UID:27471-1712314800-1712320200@masshiremncareers.com
SUMMARY:Virtual Social Media Overview
DESCRIPTION:Social Media is a huge part of the modern world as it connects people to family\, friends\, and even the general public. Did you know that Social Media can also be a tool for you to use during your job search? In this workshop\, learn how to use social media to positively enforce your job search journey. We will touch upon social media safety and the best ways to use apps like LinkedIn\, Instagram\, Facebook\, and more to your advantage. \nRegister here.
URL:https://masshiremncareers.com/event/virtual-social-media-overview-2/
CATEGORIES:Webinar,Woburn Center Event,Workshops
ATTACH;FMTTYPE=image/jpeg:https://masshiremncareers.com/wp-content/uploads/SocialMediaOverview.workshop.Flyer_.20240405-1-1.jpg
END:VEVENT
BEGIN:VEVENT
DTSTART;TZID=America/New_York:20240408T110000
DTEND;TZID=America/New_York:20240408T130000
DTSTAMP:20260420T221006
CREATED:20240325T190539Z
LAST-MODIFIED:20240325T190539Z
UID:27473-1712574000-1712581200@masshiremncareers.com
SUMMARY:Basic Computer Skills 1
DESCRIPTION:Are you new to the world of computers? Do you want to feel more comfortable using technology? This is the course for you! Learn the very basics about computers starting with the terminology. Practice navigating a desktop\, browsing the internet\, and even get an introduction to creating and saving documents using some of the most popular Microsoft Windows 11 applications: Word\, Excel\, and PowerPoint. \nRegister here.
URL:https://masshiremncareers.com/event/basic-computer-skills-1-10/
CATEGORIES:Cambridge Center Event,Workshops
ATTACH;FMTTYPE=image/jpeg:https://masshiremncareers.com/wp-content/uploads/BasicComputerSkills1.workshop.Flyer_.20240408.jpg
END:VEVENT
BEGIN:VEVENT
DTSTART;TZID=America/New_York:20240408T140000
DTEND;TZID=America/New_York:20240408T150000
DTSTAMP:20260420T221006
CREATED:20240325T190926Z
LAST-MODIFIED:20240325T190926Z
UID:27475-1712584800-1712588400@masshiremncareers.com
SUMMARY:Storytelling in Your Career Search
DESCRIPTION:Did you know the components of storytelling can assist you in your job search? We will explore: a story’s must-haves\, applying those to your target organization and drawing parallels between you and your target company. \nRegister here.
URL:https://masshiremncareers.com/event/storytelling-in-your-career-search-7/
CATEGORIES:Cambridge Center Event,Webinar,Workshops
END:VEVENT
BEGIN:VEVENT
DTSTART;TZID=America/New_York:20240409T100000
DTEND;TZID=America/New_York:20240409T110000
DTSTAMP:20260420T221006
CREATED:20240325T191054Z
LAST-MODIFIED:20240325T191054Z
UID:27476-1712656800-1712660400@masshiremncareers.com
SUMMARY:Cracking the Hidden Job Market
DESCRIPTION:Some jobs are hidden below the surface and others you really have to dig for! \nJoin us online as we look at ways to uncover this hidden job market – those jobs that aren’t publicized or are but discreetly. \nRegister here.
URL:https://masshiremncareers.com/event/cracking-the-hidden-job-market-9/
CATEGORIES:Webinar,Woburn Center Event,Workshops
END:VEVENT
BEGIN:VEVENT
DTSTART;TZID=America/New_York:20240409T130000
DTEND;TZID=America/New_York:20240409T140000
DTSTAMP:20260420T221006
CREATED:20240325T191558Z
LAST-MODIFIED:20240325T191558Z
UID:27477-1712667600-1712671200@masshiremncareers.com
SUMMARY:Carta de presentación
DESCRIPTION:Comprender los fundamentos de las cartas de presentación. Aprenda los formatos y cómo personalizar la carta de presentación para las descripciones de trabajo. \nUnderstanding the fundamentals of cover letters. Learn the formats and how to customize the cover letter for job descriptions. This webinar will be delivered in Spanish. \nRegistrarse aqui.
URL:https://masshiremncareers.com/event/carta-de-presentacion-14/
CATEGORIES:Chelsea Center Event,Español,Webinar,Workshops
ATTACH;FMTTYPE=image/jpeg:https://masshiremncareers.com/wp-content/uploads/Cover-Letter-Flyer-Spanish-apr9-1.jpg
END:VEVENT
BEGIN:VEVENT
DTSTART;TZID=America/New_York:20240409T133000
DTEND;TZID=America/New_York:20240409T150000
DTSTAMP:20260420T221006
CREATED:20240325T191839Z
LAST-MODIFIED:20240325T191839Z
UID:27488-1712669400-1712674800@masshiremncareers.com
SUMMARY:In Person Resume
DESCRIPTION:Join this in person workshop to learn the basics of resumes. What are the types? Dos and don’ts\, how long they should be and how far back in time to go. \nRegister here.
URL:https://masshiremncareers.com/event/in-person-resume/
CATEGORIES:Woburn Center Event,Workshops
ATTACH;FMTTYPE=image/jpeg:https://masshiremncareers.com/wp-content/uploads/Resume-Basics-and-Beyond.workshop.flyer_.in-person.Woburn.20240409.jpg
END:VEVENT
BEGIN:VEVENT
DTSTART;TZID=America/New_York:20240410T100000
DTEND;TZID=America/New_York:20240410T110000
DTSTAMP:20260420T221006
CREATED:20240325T192323Z
LAST-MODIFIED:20240325T192323Z
UID:27489-1712743200-1712746800@masshiremncareers.com
SUMMARY:Career Assessment Focus ONET II
DESCRIPTION:There are tremendous resources in O’net to help you figure out your next career step. We’ll look at crosswalks\, My Next Move and other elements of this cool site. Please join us online. \nRegister here.
URL:https://masshiremncareers.com/event/career-assessment-focus-onet-ii-4/
CATEGORIES:Cambridge Center Event,Webinar,Workshops
END:VEVENT
BEGIN:VEVENT
DTSTART;TZID=America/New_York:20240411T100000
DTEND;TZID=America/New_York:20240411T110000
DTSTAMP:20260420T221006
CREATED:20240325T192533Z
LAST-MODIFIED:20240325T192533Z
UID:27490-1712829600-1712833200@masshiremncareers.com
SUMMARY:Remote Work: Is It For You?
DESCRIPTION:Does remote work sound like it would work for you? Let’s walk through the skills needed to be successful as well as your home set up and technology requirements. We’ll also examine how to avoid scams. Join us online! \nRegister here.
URL:https://masshiremncareers.com/event/remote-work-is-it-for-you-12/
CATEGORIES:Webinar,Woburn Center Event,Workshops
ATTACH;FMTTYPE=image/jpeg:https://masshiremncareers.com/wp-content/uploads/Remote-Work-Is-It-For-You-20240411.jpg
END:VEVENT
BEGIN:VEVENT
DTSTART;TZID=America/New_York:20240411T110000
DTEND;TZID=America/New_York:20240411T120000
DTSTAMP:20260420T221006
CREATED:20240325T192720Z
LAST-MODIFIED:20240325T192720Z
UID:27491-1712833200-1712836800@masshiremncareers.com
SUMMARY:Virtual Microsoft Overview
DESCRIPTION:Micrsoft is an extremely popular computer software program\, but it can also be extremely overwhelming with all the apps and services they have to offer. In this workshop\, we will go over the Microsoft apps in brief detail so that you will be comfortable identifying their purpose and how you can use the apps to your benefit. \nRegister here.
URL:https://masshiremncareers.com/event/virtual-microsoft-overview-2/
CATEGORIES:Webinar,Woburn Center Event,Workshops
ATTACH;FMTTYPE=image/jpeg:https://masshiremncareers.com/wp-content/uploads/MicrosoftSuiteOverview.workshop.Flyer_.20240411.jpg
END:VEVENT
BEGIN:VEVENT
DTSTART;TZID=America/New_York:20240411T130000
DTEND;TZID=America/New_York:20240411T143000
DTSTAMP:20260420T221006
CREATED:20240325T193018Z
LAST-MODIFIED:20240325T193018Z
UID:27492-1712840400-1712845800@masshiremncareers.com
SUMMARY:Conceptos básicos del currículum
DESCRIPTION:Únase a este seminario web para aprender los conceptos básicos de los currículums. ¿Cuáles son los tipos? Qué hacer y qué no hacer\, cuánto tiempo deben durar y qué tan atrás en el tiempo se debe reportar. \nJoin this webinar to learn the basics of resumes. What are the types? Dos and don’ts\, how long they should be and how far back in time to go. This webinar will be in Spanish \nRegister here.
URL:https://masshiremncareers.com/event/conceptos-basicos-del-curriculum-10/
CATEGORIES:Chelsea Center Event,Español,Workshops
ATTACH;FMTTYPE=image/jpeg:https://masshiremncareers.com/wp-content/uploads/Resume-Basics-in-person-flyer-Spanish-apr11.jpg
END:VEVENT
BEGIN:VEVENT
DTSTART;TZID=America/New_York:20240412T100000
DTEND;TZID=America/New_York:20240412T113000
DTSTAMP:20260420T221006
CREATED:20240325T193209Z
LAST-MODIFIED:20240325T193209Z
UID:27493-1712916000-1712921400@masshiremncareers.com
SUMMARY:LinkedIn Headline & Summary
DESCRIPTION:Get noticed! Learn by example on the best ways to structure your headline and summary to get attention from decision makers on LinkedIn. \nRegister here.
URL:https://masshiremncareers.com/event/linkedin-headline-summary-22/
CATEGORIES:Webinar,Woburn Center Event,Workshops
ATTACH;FMTTYPE=image/jpeg:https://masshiremncareers.com/wp-content/uploads/LinkedIn-Headline-20240412.jpg
END:VEVENT
END:VCALENDAR