BEGIN:VCALENDAR
VERSION:2.0
PRODID:-//MassHire Metro North Career Center - ECPv6.15.20//NONSGML v1.0//EN
CALSCALE:GREGORIAN
METHOD:PUBLISH
X-WR-CALNAME:MassHire Metro North Career Center
X-ORIGINAL-URL:https://masshiremncareers.com
X-WR-CALDESC:Events for MassHire Metro North Career Center
REFRESH-INTERVAL;VALUE=DURATION:PT1H
X-Robots-Tag:noindex
X-PUBLISHED-TTL:PT1H
BEGIN:VTIMEZONE
TZID:America/New_York
BEGIN:DAYLIGHT
TZOFFSETFROM:-0500
TZOFFSETTO:-0400
TZNAME:EDT
DTSTART:20180311T070000
END:DAYLIGHT
BEGIN:STANDARD
TZOFFSETFROM:-0400
TZOFFSETTO:-0500
TZNAME:EST
DTSTART:20181104T060000
END:STANDARD
BEGIN:DAYLIGHT
TZOFFSETFROM:-0500
TZOFFSETTO:-0400
TZNAME:EDT
DTSTART:20190310T070000
END:DAYLIGHT
BEGIN:STANDARD
TZOFFSETFROM:-0400
TZOFFSETTO:-0500
TZNAME:EST
DTSTART:20191103T060000
END:STANDARD
BEGIN:DAYLIGHT
TZOFFSETFROM:-0500
TZOFFSETTO:-0400
TZNAME:EDT
DTSTART:20200308T070000
END:DAYLIGHT
BEGIN:STANDARD
TZOFFSETFROM:-0400
TZOFFSETTO:-0500
TZNAME:EST
DTSTART:20201101T060000
END:STANDARD
END:VTIMEZONE
BEGIN:VEVENT
DTSTART;TZID=America/New_York:20190215T100000
DTEND;TZID=America/New_York:20190215T120000
DTSTAMP:20260425T102730
CREATED:20181227T193604Z
LAST-MODIFIED:20181227T193604Z
UID:17034-1550224800-1550232000@masshiremncareers.com
SUMMARY:Interviewing
DESCRIPTION:Is your resume getting your foot in the door but you’re not advancing beyond the interview? Come and learn the best practices of a successful in-person job interview!  We will discuss research\, CAR Statements\, post-interview follow-up and the importance of non-work related activities.  We will also explore how best to navigate an interview’s behavioral and traditional questions.
URL:https://masshiremncareers.com/event/interviewing-5/
LOCATION:Woburn Career Center\, 100 Trade Center\, Suite G100\, Woburn\, MA\, 01801\, United States
CATEGORIES:Woburn Center Event,Workshops
END:VEVENT
BEGIN:VEVENT
DTSTART;TZID=America/New_York:20190215T100000
DTEND;TZID=America/New_York:20190215T120000
DTSTAMP:20260425T102730
CREATED:20181227T160507Z
LAST-MODIFIED:20181227T160507Z
UID:16964-1550224800-1550232000@masshiremncareers.com
SUMMARY:Salary Negotiation
DESCRIPTION:How do we successfully negotiate salary? How can we trade “me vs. them” for “mutually beneficial?”  In this session you’ll find out! Topics include the Do’s and Don’ts of compensation\, CAR Statements\, ZOPA\, anchoring bias\, offer analysis\, and deflection tactics. Master your delivery\, fuse your experience with industry know-how and ensure mutual value between you and your target employer
URL:https://masshiremncareers.com/event/salary-negotiation-4/
LOCATION:Cambridge Career Center\, 186 Alewife Brook Parkway\, Cambridge\, MA\, 02138\, United States
CATEGORIES:Cambridge Center Event,Workshops
END:VEVENT
BEGIN:VEVENT
DTSTART;TZID=America/New_York:20190215T100000
DTEND;TZID=America/New_York:20190215T120000
DTSTAMP:20260425T102730
CREATED:20181227T154349Z
LAST-MODIFIED:20190103T200448Z
UID:16931-1550224800-1550232000@masshiremncareers.com
SUMMARY:Entrepreneurial Think Tank
DESCRIPTION:Are you ready to run your own business? We’ll help you take the first step. Entrepreneurial Think Tank is a forum for budding entrepreneurs. We will discuss the basics of starting a small business. Is entrepreneurship right for you? Sign up and find out!
URL:https://masshiremncareers.com/event/entrepreneurial-thank-tank/
LOCATION:Cambridge Career Center\, 186 Alewife Brook Parkway\, Cambridge\, MA\, 02138\, United States
CATEGORIES:Cambridge Center Event,Workshops
END:VEVENT
BEGIN:VEVENT
DTSTART;TZID=America/New_York:20190215T100000
DTEND;TZID=America/New_York:20190215T113000
DTSTAMP:20260425T102730
CREATED:20190208T144458Z
LAST-MODIFIED:20190208T144458Z
UID:17444-1550224800-1550230200@masshiremncareers.com
SUMMARY:SkillSmart Profile Build
DESCRIPTION:Come learn how to build a profile in SkillSmart to apply for jobs with Encore Boston Harbor. \nPlease bring an electronic version of your resume or a copy of your resume and your email.
URL:https://masshiremncareers.com/event/skillsmart-profile-build/
LOCATION:Woburn Career Center\, 100 Trade Center\, Suite G100\, Woburn\, MA\, 01801\, United States
CATEGORIES:Woburn Center Event,Workshops
END:VEVENT
BEGIN:VEVENT
DTSTART;TZID=America/New_York:20190215T100000
DTEND;TZID=America/New_York:20190215T113000
DTSTAMP:20260425T102730
CREATED:20181227T193450Z
LAST-MODIFIED:20181227T193450Z
UID:17032-1550224800-1550230200@masshiremncareers.com
SUMMARY:Career Development Options
DESCRIPTION:Interested in getting one-on-one career counseling to help with your job search? Need grant funds for schooling or training? Come learn about your career path options and how we can help you in your job search. This information session explains in detail about the eligibility requirements for accessing these grant-funded services through WIOA.
URL:https://masshiremncareers.com/event/career-development-options-29/
LOCATION:Woburn Career Center\, 100 Trade Center\, Suite G100\, Woburn\, MA\, 01801\, United States
CATEGORIES:Woburn Center Event,Workshops
END:VEVENT
BEGIN:VEVENT
DTSTART;TZID=America/New_York:20190215T090000
DTEND;TZID=America/New_York:20190215T160000
DTSTAMP:20260425T102730
CREATED:20190103T200613Z
LAST-MODIFIED:20190103T200613Z
UID:17093-1550221200-1550246400@masshiremncareers.com
SUMMARY:Unemployment Representative Onsite
DESCRIPTION:A representative from the Department of Unemployment will be onsite to answer customers’ questions about their claims.
URL:https://masshiremncareers.com/event/unemployment-representative-onsite-11/
LOCATION:Cambridge Career Center\, 186 Alewife Brook Parkway\, Cambridge\, MA\, 02138\, United States
CATEGORIES:Cambridge Center Event
END:VEVENT
BEGIN:VEVENT
DTSTART;TZID=America/New_York:20190215T090000
DTEND;TZID=America/New_York:20190215T123000
DTSTAMP:20260425T102730
CREATED:20181226T134340Z
LAST-MODIFIED:20181226T134340Z
UID:16915-1550221200-1550233800@masshiremncareers.com
SUMMARY:PowerPoint 3 ($79)
DESCRIPTION:Design presentations using masters\, and templates. Customize audio and video to create special effects.  Recommended pre-requisite: PowerPoint II (3.5 hours)
URL:https://masshiremncareers.com/event/powerpoint-3-79-4/
LOCATION:Cambridge Career Center\, 186 Alewife Brook Parkway\, Cambridge\, MA\, 02138\, United States
CATEGORIES:Cambridge Center Event
END:VEVENT
BEGIN:VEVENT
DTSTART;TZID=America/New_York:20190214T143000
DTEND;TZID=America/New_York:20190214T153000
DTSTAMP:20260425T102730
CREATED:20181227T160341Z
LAST-MODIFIED:20181227T160341Z
UID:16962-1550154600-1550158200@masshiremncareers.com
SUMMARY:15-Minute Resume Critique
DESCRIPTION:A 15-minute critique of your résumé. We will determine an appropriate format\, eliminate nonessential information\, and recommend additions to help you rewrite your self-marketing tool. Please bring your most recent résumé.
URL:https://masshiremncareers.com/event/15-minute-resume-critique-4/
LOCATION:Cambridge Career Center\, 186 Alewife Brook Parkway\, Cambridge\, MA\, 02138\, United States
CATEGORIES:Cambridge Center Event
END:VEVENT
BEGIN:VEVENT
DTSTART;TZID=America/New_York:20190214T130000
DTEND;TZID=America/New_York:20190214T150000
DTSTAMP:20260425T102730
CREATED:20181227T162837Z
LAST-MODIFIED:20190131T205851Z
UID:16987-1550149200-1550156400@masshiremncareers.com
SUMMARY:LMI: Outlook of Your Job Search
DESCRIPTION:What’s the outlook of your job search? We’ll find out by investigating the seven points of the MA Unemployment Labor Market Research Worksheet. Learn to research target industries\, organizations and positions. Review salary ranges and industry trends. Master self-assessment and the informational interview. Register today and learn how these keys serve as the working bedrock of a smart job search.  \nFor this workshop\, please come prepared with at least one target industry and/or a target job title that you are considering on your job search.
URL:https://masshiremncareers.com/event/lmi-outlook-of-your-job-search-3/
LOCATION:Cambridge Career Center\, 186 Alewife Brook Parkway\, Cambridge\, MA\, 02138\, United States
CATEGORIES:Cambridge Center Event,Workshops
END:VEVENT
BEGIN:VEVENT
DTSTART;TZID=America/New_York:20190214T100000
DTEND;TZID=America/New_York:20190214T133000
DTSTAMP:20260425T102730
CREATED:20181227T192737Z
LAST-MODIFIED:20181227T192737Z
UID:17028-1550138400-1550151000@masshiremncareers.com
SUMMARY:15-Minute Resume Critique
DESCRIPTION:A 15-minute critique of your résumé. We will determine an appropriate format\, eliminate nonessential information\, and recommend additions to help you rewrite your self-marketing tool. Please bring your most recent résumé.
URL:https://masshiremncareers.com/event/15-minute-resume-critique-11/
LOCATION:Woburn Career Center\, 100 Trade Center\, Suite G100\, Woburn\, MA\, 01801\, United States
CATEGORIES:Woburn Center Event
END:VEVENT
BEGIN:VEVENT
DTSTART;TZID=America/New_York:20190214T100000
DTEND;TZID=America/New_York:20190214T120000
DTSTAMP:20260425T102730
CREATED:20190115T212059Z
LAST-MODIFIED:20190115T212059Z
UID:17163-1550138400-1550145600@masshiremncareers.com
SUMMARY:The Modern Job Search
DESCRIPTION:Are you wondering where to begin your job search?  Let’s delve into its touchpoints: Self Assessment\, Labor Market Research\, Interviewing\, Developing and Implementing a Plan\, Salary Negotiations as well as navigating the Job Offer itself. We will discuss examples of each key element. Also covered – how to stay organized\, focused and positive during your job search.
URL:https://masshiremncareers.com/event/the-modern-job-search-2/
LOCATION:Chelsea Career Center\, 4 Gerrish Ave\, Chelsea\, MA\, 02150\, United States
CATEGORIES:Chelsea Center Event
END:VEVENT
BEGIN:VEVENT
DTSTART;TZID=America/New_York:20190214T100000
DTEND;TZID=America/New_York:20190214T120000
DTSTAMP:20260425T102730
CREATED:20181227T193321Z
LAST-MODIFIED:20181227T193321Z
UID:17030-1550138400-1550145600@masshiremncareers.com
SUMMARY:Everything...Online Applications
DESCRIPTION:You’re wondering about online applications…should you indicate your salary history? Can’t you just send them your resume and be done with it? Get the facts as we examine online applications\, Application Tracking Software\, personality tests and the techniques to get you through the system to a person.
URL:https://masshiremncareers.com/event/everything-online-applications-2/
LOCATION:Woburn Career Center\, 100 Trade Center\, Suite G100\, Woburn\, MA\, 01801\, United States
CATEGORIES:Woburn Center Event,Workshops
END:VEVENT
BEGIN:VEVENT
DTSTART;TZID=America/New_York:20190214T090000
DTEND;TZID=America/New_York:20190214T123000
DTSTAMP:20260425T102730
CREATED:20181226T134232Z
LAST-MODIFIED:20181226T134232Z
UID:16913-1550134800-1550147400@masshiremncareers.com
SUMMARY:PowerPoint 2 ($69)
DESCRIPTION:This class is focused on creating audience-focused presentations while incorporating animation\, transitions\, and sound. (3.5 hours)  Recommended pre-requisite: PowerPoint 1
URL:https://masshiremncareers.com/event/powerpoint-2-69-4/
LOCATION:Cambridge Career Center\, 186 Alewife Brook Parkway\, Cambridge\, MA\, 02138\, United States
CATEGORIES:Cambridge Center Event
END:VEVENT
BEGIN:VEVENT
DTSTART;TZID=America/New_York:20190213T101500
DTEND;TZID=America/New_York:20190213T140000
DTSTAMP:20260425T102730
CREATED:20190207T153323Z
LAST-MODIFIED:20190207T153323Z
UID:17427-1550052900-1550066400@masshiremncareers.com
SUMMARY:15-Minute Resume Critiques
DESCRIPTION:A 15-minute critique of your résumé. We will determine an appropriate format\, eliminate nonessential information\, and recommend additions to help you rewrite your self-marketing tool. Please bring your most recent résumé. (By appointment)
URL:https://masshiremncareers.com/event/15-minute-resume-critiques-9/
LOCATION:Woburn Career Center\, 100 Trade Center\, Suite G100\, Woburn\, MA\, 01801\, United States
CATEGORIES:Woburn Center Event
END:VEVENT
BEGIN:VEVENT
DTSTART;TZID=America/New_York:20190212T130000
DTEND;TZID=America/New_York:20190212T150000
DTSTAMP:20260425T102730
CREATED:20190103T201244Z
LAST-MODIFIED:20190211T155746Z
UID:17098-1549976400-1549983600@masshiremncareers.com
SUMMARY:Commonwealth of Massachusetts Info Session - Cancelled
DESCRIPTION:Interested in working for the State of MA?\nJuanita Allen\, Recruitment and Outreach Manager\, HR Division from Commonwealth of MA office of Diversity and Equal Opportunity will provide a presentation and answer questions on how to apply to state jobs.
URL:https://masshiremncareers.com/event/commonwealth-of-massachusetts-info-session/
LOCATION:Woburn Career Center\, 100 Trade Center\, Suite G100\, Woburn\, MA\, 01801\, United States
CATEGORIES:Woburn Center Event
END:VEVENT
BEGIN:VEVENT
DTSTART;TZID=America/New_York:20190212T100000
DTEND;TZID=America/New_York:20190212T133000
DTSTAMP:20260425T102730
CREATED:20181227T192637Z
LAST-MODIFIED:20190103T201106Z
UID:17026-1549965600-1549978200@masshiremncareers.com
SUMMARY:15-Minute Resume Critique
DESCRIPTION:A 15-minute critique of your résumé. We will determine an appropriate format\, eliminate nonessential information\, and recommend additions to help you rewrite your self-marketing tool. Please bring your most recent résumé.
URL:https://masshiremncareers.com/event/5-minute-resume-critique/
LOCATION:Woburn Career Center\, 100 Trade Center\, Suite G100\, Woburn\, MA\, 01801\, United States
CATEGORIES:Woburn Center Event
END:VEVENT
BEGIN:VEVENT
DTSTART;TZID=America/New_York:20190212T100000
DTEND;TZID=America/New_York:20190212T120000
DTSTAMP:20260425T102730
CREATED:20190129T134032Z
LAST-MODIFIED:20190129T134032Z
UID:17200-1549965600-1549972800@masshiremncareers.com
SUMMARY:Triangle\, Inc. Recruitment
DESCRIPTION:Seeking Qualified Candidates to make a difference in our clients’ lives\n	Community Coordinator – Adult and Transition Services\n	Manager of Clinical Supports\n	Workforce Development Program Coordinator –  Pre-Employment Transition Services\n	Residential Services-Relief – Per Diem and Permanent at various Locations across the North Shore \nTriangle\, Inc. provides comprehensive services that empower transition-age youth and adults with disabilities to meet their personal and professional goals and ultimately achieve independence
URL:https://masshiremncareers.com/event/triangle-inc-recruitment/
LOCATION:Chelsea Career Center\, 4 Gerrish Ave\, Chelsea\, MA\, 02150\, United States
CATEGORIES:Chelsea Center Event
END:VEVENT
BEGIN:VEVENT
DTSTART;TZID=America/New_York:20190212T100000
DTEND;TZID=America/New_York:20190212T120000
DTSTAMP:20260425T102730
CREATED:20190108T210414Z
LAST-MODIFIED:20190108T210414Z
UID:17132-1549965600-1549972800@masshiremncareers.com
SUMMARY:Fuel Assistance Info
DESCRIPTION:Come receive help on accessing fuel assistance from ABCD’s Energy Programs. Listen to a short presentation about the program and then get one-on-one help to complete the application.
URL:https://masshiremncareers.com/event/fuel-assistance-info-6/
LOCATION:Cambridge Career Center\, 186 Alewife Brook Parkway\, Cambridge\, MA\, 02138\, United States
CATEGORIES:Cambridge Center Event
END:VEVENT
BEGIN:VEVENT
DTSTART;TZID=America/New_York:20190212T090000
DTEND;TZID=America/New_York:20190212T160000
DTSTAMP:20260425T102730
CREATED:20181227T155836Z
LAST-MODIFIED:20181227T155836Z
UID:16956-1549962000-1549987200@masshiremncareers.com
SUMMARY:Unemployment Representative Onsite
DESCRIPTION:A representative from the Department of Unemployment will be onsite to answer customers’ questions about their claims.
URL:https://masshiremncareers.com/event/unemployment-representative-onsite-8/
LOCATION:Cambridge Career Center\, 186 Alewife Brook Parkway\, Cambridge\, MA\, 02138\, United States
CATEGORIES:Cambridge Center Event
END:VEVENT
BEGIN:VEVENT
DTSTART;TZID=America/New_York:20190212T090000
DTEND;TZID=America/New_York:20190212T123000
DTSTAMP:20260425T102730
CREATED:20181226T134127Z
LAST-MODIFIED:20181226T134127Z
UID:16911-1549962000-1549974600@masshiremncareers.com
SUMMARY:PowerPoint 1 ($59)
DESCRIPTION:This course is designed to provide a working knowledge of Microsoft PowerPoint. You will learn to create\, design\, and deliver presentations. (3.5 hours)
URL:https://masshiremncareers.com/event/powerpoint-1-59-4/
LOCATION:Cambridge Career Center\, 186 Alewife Brook Parkway\, Cambridge\, MA\, 02138\, United States
CATEGORIES:Cambridge Center Event
END:VEVENT
BEGIN:VEVENT
DTSTART;TZID=America/New_York:20190211T140000
DTEND;TZID=America/New_York:20190211T160000
DTSTAMP:20260425T102730
CREATED:20190115T211557Z
LAST-MODIFIED:20190115T211557Z
UID:17158-1549893600-1549900800@masshiremncareers.com
SUMMARY:Career Development Options
DESCRIPTION:Interested in getting one-on-one career counseling to help with your job search? Need grant funds for schooling or training? Come learn about your career path options and how we can help you in your job search. This information session explains in detail about the eligibility requirements for accessing these grant-funded services through WIOA.
URL:https://masshiremncareers.com/event/career-development-options-31/
LOCATION:Chelsea Career Center\, 4 Gerrish Ave\, Chelsea\, MA\, 02150\, United States
CATEGORIES:Chelsea Center Event
END:VEVENT
BEGIN:VEVENT
DTSTART;TZID=America/New_York:20190211T130000
DTEND;TZID=America/New_York:20190211T150000
DTSTAMP:20260425T102730
CREATED:20181227T192530Z
LAST-MODIFIED:20190111T201427Z
UID:17024-1549890000-1549897200@masshiremncareers.com
SUMMARY:LMI: Outlook of Your Job Search
DESCRIPTION:What’s the outlook of your job search? We’ll find out by investigating the seven points of the MA Unemployment Labor Market Research Worksheet. Learn to research target industries\, organizations and positions. Review salary ranges and industry trends. Master self-assessment and the informational interview. Register today and learn how these keys serve as the working bedrock of a smart job search. (2 hours) For this workshop\, please come prepared with at least one target industry and/or a target job title that you are considering on your job search.
URL:https://masshiremncareers.com/event/lmi-outlook-of-your-job-search-5/
LOCATION:Woburn Career Center\, 100 Trade Center\, Suite G100\, Woburn\, MA\, 01801\, United States
CATEGORIES:Woburn Center Event,Workshops
END:VEVENT
BEGIN:VEVENT
DTSTART;TZID=America/New_York:20190211T110000
DTEND;TZID=America/New_York:20190211T130000
DTSTAMP:20260425T102730
CREATED:20190110T212628Z
LAST-MODIFIED:20190110T212628Z
UID:17144-1549882800-1549890000@masshiremncareers.com
SUMMARY:Fuel Assistance Info
DESCRIPTION:Come learn about a federally funded program designed to help families pay winter heating bills. The program runs through April 30. Come in to listen to a short presentation and then get one-on-one help to complete the application.
URL:https://masshiremncareers.com/event/fuel-assistance-info-9-2019-02-11/
LOCATION:Woburn Career Center\, 100 Trade Center\, Suite G100\, Woburn\, MA\, 01801\, United States
CATEGORIES:Woburn Center Event,Workshops
END:VEVENT
BEGIN:VEVENT
DTSTART;TZID=America/New_York:20190211T100000
DTEND;TZID=America/New_York:20190211T120000
DTSTAMP:20260425T102730
CREATED:20190131T231106Z
LAST-MODIFIED:20190131T231106Z
UID:17212-1549879200-1549886400@masshiremncareers.com
SUMMARY:Jobquest: Completing Your Profile
DESCRIPTION:Let’s look under the hood of JobQuest\, Massachusetts’ job search engine. What are the keys to connecting to employers?  How can hiring managers and industry insiders find you? Join us and get back to work that much faster!
URL:https://masshiremncareers.com/event/jobquest-completing-your-profile-15/
LOCATION:Woburn Career Center\, 100 Trade Center\, Suite G100\, Woburn\, MA\, 01801\, United States
CATEGORIES:Woburn Center Event,Workshops
END:VEVENT
BEGIN:VEVENT
DTSTART;TZID=America/New_York:20190211T100000
DTEND;TZID=America/New_York:20190211T120000
DTSTAMP:20260425T102730
CREATED:20181227T192406Z
LAST-MODIFIED:20181227T192406Z
UID:17022-1549879200-1549886400@masshiremncareers.com
SUMMARY:Understanding Retirement Benefits
DESCRIPTION:Are you considering retiring? Wondering when can I start collecting Social Security? Can I withdraw funds from my 401K? At what age must I start drawing down from my IRA? What’s defined benefit? You’ve got a lot of questions—get them answered and put your financial future in order!
URL:https://masshiremncareers.com/event/understanding-retirement-benefits-7/
LOCATION:Woburn Career Center\, 100 Trade Center\, Suite G100\, Woburn\, MA\, 01801\, United States
CATEGORIES:Woburn Center Event,Workshops
END:VEVENT
BEGIN:VEVENT
DTSTART;TZID=America/New_York:20190211T100000
DTEND;TZID=America/New_York:20190211T120000
DTSTAMP:20260425T102730
CREATED:20181227T155616Z
LAST-MODIFIED:20181227T155616Z
UID:16952-1549879200-1549886400@masshiremncareers.com
SUMMARY:Interview Drills
DESCRIPTION:In Interviewing Fundamentals 1.0\, you learned the dos and don’ts of the job interview. Now\, put those skills to work in this small group\, big impact session! What’s a good interview?  What’s a poor interview? What are the signs that an interview went well? Through video clips\, mock interviews\, and in-class feedback\, we will examine what it takes to be successful in your next job interview!  \nPlease Note: all participants will be expected to engage in mock interviews in front of the class.\nPre-requisite: Attendees have taken the Interviewing Fundamentals workshop
URL:https://masshiremncareers.com/event/interview-drills-3/
LOCATION:Cambridge Career Center\, 186 Alewife Brook Parkway\, Cambridge\, MA\, 02138\, United States
CATEGORIES:Cambridge Center Event,Workshops
END:VEVENT
BEGIN:VEVENT
DTSTART;TZID=America/New_York:20190211T100000
DTEND;TZID=America/New_York:20190211T113000
DTSTAMP:20260425T102730
CREATED:20181227T155732Z
LAST-MODIFIED:20181227T155732Z
UID:16954-1549879200-1549884600@masshiremncareers.com
SUMMARY:Career Development Options
DESCRIPTION:Interested in getting one-on-one career counseling to help with your job search? Need grant funds for schooling or training? Come learn about your career path options and how we can help you in your job search. This information session explains in detail about the eligibility requirements for accessing these grant-funded services through WIOA.
URL:https://masshiremncareers.com/event/career-development-options-25/
LOCATION:Cambridge Career Center\, 186 Alewife Brook Parkway\, Cambridge\, MA\, 02138\, United States
CATEGORIES:Cambridge Center Event,Workshops
END:VEVENT
BEGIN:VEVENT
DTSTART;TZID=America/New_York:20190208T110000
DTEND;TZID=America/New_York:20190208T130000
DTSTAMP:20260425T102730
CREATED:20190108T210322Z
LAST-MODIFIED:20190108T210322Z
UID:17130-1549623600-1549630800@masshiremncareers.com
SUMMARY:Fuel Assistance Info
DESCRIPTION:Come receive help on accessing fuel assistance from ABCD’s Energy Programs. Listen to a short presentation about the program and then get one-on-one help to complete the application.
URL:https://masshiremncareers.com/event/fuel-assistance-info-5/
LOCATION:Cambridge Career Center\, 186 Alewife Brook Parkway\, Cambridge\, MA\, 02138\, United States
CATEGORIES:Cambridge Center Event
END:VEVENT
BEGIN:VEVENT
DTSTART;TZID=America/New_York:20190208T100000
DTEND;TZID=America/New_York:20190208T120000
DTSTAMP:20260425T102730
CREATED:20181227T192030Z
LAST-MODIFIED:20181227T192030Z
UID:17019-1549620000-1549627200@masshiremncareers.com
SUMMARY:Resume/Cover Letter Fundamentals
DESCRIPTION:Learn the résumé styles used by professional résumé writers and how to get yours noticed. You’ll be given the tools to determine which style suits your job search best! We’ll look into the mechanics of what makes an effective cover letter. You will learn how to effectively present your experience and skills to tailor to a job description to help land that next interview.
URL:https://masshiremncareers.com/event/resume-cover-letter-fundamentals-16/
LOCATION:Woburn Career Center\, 100 Trade Center\, Suite G100\, Woburn\, MA\, 01801\, United States
CATEGORIES:Woburn Center Event,Workshops
END:VEVENT
BEGIN:VEVENT
DTSTART;TZID=America/New_York:20190208T100000
DTEND;TZID=America/New_York:20190208T120000
DTSTAMP:20260425T102730
CREATED:20181227T155453Z
LAST-MODIFIED:20181227T155453Z
UID:16949-1549620000-1549627200@masshiremncareers.com
SUMMARY:Resume/Cover Letter Fundamentals
DESCRIPTION:Learn the résumé styles used by professional résumé writers and how to get yours noticed. You’ll be given the tools to determine which style suits your job search best! We’ll look into the mechanics of what makes an effective cover letter. You will learn how to effectively present your experience and skills to tailor to a job description to help land that next interview.
URL:https://masshiremncareers.com/event/resume-cover-letter-fundamentals-13/
LOCATION:Cambridge Career Center\, 186 Alewife Brook Parkway\, Cambridge\, MA\, 02138\, United States
CATEGORIES:Cambridge Center Event,Workshops
END:VEVENT
END:VCALENDAR