BEGIN:VCALENDAR
VERSION:2.0
PRODID:-//MassHire Metro North Career Center - ECPv6.15.20//NONSGML v1.0//EN
CALSCALE:GREGORIAN
METHOD:PUBLISH
X-WR-CALNAME:MassHire Metro North Career Center
X-ORIGINAL-URL:https://masshiremncareers.com
X-WR-CALDESC:Events for MassHire Metro North Career Center
REFRESH-INTERVAL;VALUE=DURATION:PT1H
X-Robots-Tag:noindex
X-PUBLISHED-TTL:PT1H
BEGIN:VTIMEZONE
TZID:America/New_York
BEGIN:DAYLIGHT
TZOFFSETFROM:-0500
TZOFFSETTO:-0400
TZNAME:EDT
DTSTART:20230312T070000
END:DAYLIGHT
BEGIN:STANDARD
TZOFFSETFROM:-0400
TZOFFSETTO:-0500
TZNAME:EST
DTSTART:20231105T060000
END:STANDARD
BEGIN:DAYLIGHT
TZOFFSETFROM:-0500
TZOFFSETTO:-0400
TZNAME:EDT
DTSTART:20240310T070000
END:DAYLIGHT
BEGIN:STANDARD
TZOFFSETFROM:-0400
TZOFFSETTO:-0500
TZNAME:EST
DTSTART:20241103T060000
END:STANDARD
BEGIN:DAYLIGHT
TZOFFSETFROM:-0500
TZOFFSETTO:-0400
TZNAME:EDT
DTSTART:20250309T070000
END:DAYLIGHT
BEGIN:STANDARD
TZOFFSETFROM:-0400
TZOFFSETTO:-0500
TZNAME:EST
DTSTART:20251102T060000
END:STANDARD
END:VTIMEZONE
BEGIN:VEVENT
DTSTART;TZID=America/New_York:20240312T100000
DTEND;TZID=America/New_York:20240312T110000
DTSTAMP:20260422T004412
CREATED:20240212T190356Z
LAST-MODIFIED:20240212T190356Z
UID:27340-1710237600-1710241200@masshiremncareers.com
SUMMARY:Letter of Interest
DESCRIPTION:Join MassHire as we learn some tools for conducting a targeted job search. This is a proactive way to find future employers and get noticed by the companies on your preferred list. We learn how to research companies and craft a letter of interest to for outreach. See you online! \nRegister here.
URL:https://masshiremncareers.com/event/letter-of-interest-8/
CATEGORIES:Webinar,Woburn Center Event,Workshops
ATTACH;FMTTYPE=image/jpeg:https://masshiremncareers.com/wp-content/uploads/Letter-of-Interest-20240312-1.jpg
END:VEVENT
BEGIN:VEVENT
DTSTART;TZID=America/New_York:20240311T140000
DTEND;TZID=America/New_York:20240311T150000
DTSTAMP:20260422T004412
CREATED:20240209T195435Z
LAST-MODIFIED:20240213T181439Z
UID:27292-1710165600-1710169200@masshiremncareers.com
SUMMARY:Interview Basics
DESCRIPTION:Webinar covering the basics and best practices for preparing and succeeding in a face-to-face interview. \nRegister here.
URL:https://masshiremncareers.com/event/interview-basics-12/
CATEGORIES:Cambridge Center Event,Webinar,Workshops
ATTACH;FMTTYPE=image/jpeg:https://masshiremncareers.com/wp-content/uploads/Interview-Basics.webinar.Flyer_.20240311-1.jpg
END:VEVENT
BEGIN:VEVENT
DTSTART;TZID=America/New_York:20240308T100000
DTEND;TZID=America/New_York:20240308T110000
DTSTAMP:20260422T004412
CREATED:20240212T190111Z
LAST-MODIFIED:20240212T190111Z
UID:27337-1709892000-1709895600@masshiremncareers.com
SUMMARY:LinkedIn for Job Search
DESCRIPTION:Come learn how to search for positions on LinkedIn. You’ll see how to use filters\, who you know at specific companies and create search alerts based on your parameters. Bring your questions – we’ve got answers. \nRegister here.
URL:https://masshiremncareers.com/event/linkedin-for-job-search-12/
CATEGORIES:Webinar,Woburn Center Event,Workshops
ATTACH;FMTTYPE=image/jpeg:https://masshiremncareers.com/wp-content/uploads/LinkedIn-For-Job-Search-20240308.jpg
END:VEVENT
BEGIN:VEVENT
DTSTART;TZID=America/New_York:20240307T170000
DTEND;TZID=America/New_York:20240307T180000
DTSTAMP:20260422T004412
CREATED:20240209T211221Z
LAST-MODIFIED:20240209T211221Z
UID:27314-1709830800-1709834400@masshiremncareers.com
SUMMARY:Interviewing beyond the basics
DESCRIPTION:We will cover:\n  \n\nQuestions to ask the interviewer. \nQuestions you shouldn’t ask. \nWorking with difficult interviewers \nThe differences between 1st round and later \nround interview answers 
URL:https://masshiremncareers.com/event/interviewing-beyond-the-basics-6/
CATEGORIES:Live Meeting,Workshops
ATTACH;FMTTYPE=image/jpeg:https://masshiremncareers.com/wp-content/uploads/Interviewing-Beyond-the-Basics-WEE-1mar-7.jpg
END:VEVENT
BEGIN:VEVENT
DTSTART;TZID=America/New_York:20240307T110000
DTEND;TZID=America/New_York:20240307T120000
DTSTAMP:20260422T004412
CREATED:20240109T195843Z
LAST-MODIFIED:20240213T181912Z
UID:27187-1709809200-1709812800@masshiremncareers.com
SUMMARY:Microsoft Calendar
DESCRIPTION:Microsoft Calendar will enable you to make the most out of your time. Schedule events\, organize your tasks\, and even share calendars with others to get a clear overview of what you need to get accomplished. Learn all about Microsoft Calendar in this workshop! \nRegister here.
URL:https://masshiremncareers.com/event/microsoft-calendar-2/
CATEGORIES:Woburn Center Event,Workshops
ATTACH;FMTTYPE=image/jpeg:https://masshiremncareers.com/wp-content/uploads/MicrosoftCalendar.workshop.Flyer_.20240307.jpg
END:VEVENT
BEGIN:VEVENT
DTSTART;TZID=America/New_York:20240307T100000
DTEND;TZID=America/New_York:20240307T110000
DTSTAMP:20260422T004412
CREATED:20240212T185851Z
LAST-MODIFIED:20240212T185851Z
UID:27334-1709805600-1709809200@masshiremncareers.com
SUMMARY:Working With Recruiters
DESCRIPTION:Curious about what it’s like to work with a recruiter as part of your job search? Come learn about the good\, bad and ugly of working with recruiters. Understand how they operate to get the most effective results in your job search. \nRegister here.
URL:https://masshiremncareers.com/event/working-with-recruiters-23/
CATEGORIES:Webinar,Woburn Center Event,Workshops
ATTACH;FMTTYPE=image/jpeg:https://masshiremncareers.com/wp-content/uploads/Recruiter-flyer-20240307.jpg
END:VEVENT
BEGIN:VEVENT
DTSTART;TZID=America/New_York:20240306T110000
DTEND;TZID=America/New_York:20240306T120000
DTSTAMP:20260422T004412
CREATED:20240109T195700Z
LAST-MODIFIED:20240213T182040Z
UID:27185-1709722800-1709726400@masshiremncareers.com
SUMMARY:Google Calendar
DESCRIPTION:Google Calendar will enable you to make the most out of your time. Schedule events\, organize your tasks\, and even share calendars with others to get a clear overview of what you need to get accomplished. Learn all about Google Calendar in this workshop! \nRegister here.
URL:https://masshiremncareers.com/event/google-calendar-2/
CATEGORIES:Woburn Center Event,Workshops
ATTACH;FMTTYPE=image/jpeg:https://masshiremncareers.com/wp-content/uploads/GoogleCalendar.workshop.Flyer_.20240306.jpg
END:VEVENT
BEGIN:VEVENT
DTSTART;TZID=America/New_York:20240306T103000
DTEND;TZID=America/New_York:20240306T113000
DTSTAMP:20260422T004413
CREATED:20240209T195057Z
LAST-MODIFIED:20240213T182157Z
UID:27290-1709721000-1709724600@masshiremncareers.com
SUMMARY:Youth Services Information Session
DESCRIPTION:ABCD Career Explorations helps Youth ages 16 – 24 prepare for and begin a career. Attend this session to learn about the program. This program includes a paid internship plus workshops\, field trips\, and opportunities to connect with professionals who are already working in the field. You’ll also receive individual job counseling. \nRegister here.
URL:https://masshiremncareers.com/event/youth-services-information-session-4/
CATEGORIES:Webinar,Woburn Center Event,Workshops
ATTACH;FMTTYPE=image/jpeg:https://masshiremncareers.com/wp-content/uploads/20231206-ABCD-Career-Explorations-Youth-Services-VIRTUAL-Info-Session_1030AM_JWHIT1-1.jpg
END:VEVENT
BEGIN:VEVENT
DTSTART;TZID=America/New_York:20240306T100000
DTEND;TZID=America/New_York:20240306T110000
DTSTAMP:20260422T004413
CREATED:20240209T194706Z
LAST-MODIFIED:20240213T182312Z
UID:27288-1709719200-1709722800@masshiremncareers.com
SUMMARY:Career Assessment Focus ONET
DESCRIPTION:Take a tour through ONET to examine all the data available to help you make career decisions. There are assessments to help find other careers that are a match. Join us for this webinar tour of a fantastic site. \nRegister here.
URL:https://masshiremncareers.com/event/career-assessment-focus-onet-6/
CATEGORIES:Cambridge Center Event,Webinar,Workshops
ATTACH;FMTTYPE=image/jpeg:https://masshiremncareers.com/wp-content/uploads/Career-AssessmentFocusOnONET.webinar.Flyer_.20240306-1.jpg
END:VEVENT
BEGIN:VEVENT
DTSTART;TZID=America/New_York:20240305T130000
DTEND;TZID=America/New_York:20240305T140000
DTSTAMP:20260422T004413
CREATED:20240209T193433Z
LAST-MODIFIED:20240213T182408Z
UID:27286-1709643600-1709647200@masshiremncareers.com
SUMMARY:Bienvenido a MassHire
DESCRIPTION:Ven\, regístrate y conoce los servicios que ofrecemos en MassHire y cómo podemos ayudarte!! \nRegistrarse aqui
URL:https://masshiremncareers.com/event/bienvenido-a-masshire/
CATEGORIES:Chelsea Center Event,Español,Workshops
ATTACH;FMTTYPE=image/jpeg:https://masshiremncareers.com/wp-content/uploads/Bienvenido-a-Masshire-flyer-1.jpg
END:VEVENT
BEGIN:VEVENT
DTSTART;TZID=America/New_York:20240305T100000
DTEND;TZID=America/New_York:20240305T110000
DTSTAMP:20260422T004413
CREATED:20240212T185542Z
LAST-MODIFIED:20240212T185542Z
UID:27331-1709632800-1709636400@masshiremncareers.com
SUMMARY:Resume Beyond the Basics
DESCRIPTION:Ready to take your resume to the next level? Learn about accomplishment statements and how to determine the value you bring. We’ll discuss hard and soft skills and how to utilize keywords. Please register and join us on the webinar. \nRegister here.
URL:https://masshiremncareers.com/event/resume-beyond-the-basics-35/
CATEGORIES:Webinar,Woburn Center Event,Workshops
ATTACH;FMTTYPE=image/jpeg:https://masshiremncareers.com/wp-content/uploads/Resume-Beyond-the-Basics-20240305.jpg
END:VEVENT
BEGIN:VEVENT
DTSTART;TZID=America/New_York:20240304T140000
DTEND;TZID=America/New_York:20240304T160000
DTSTAMP:20260422T004413
CREATED:20240209T193110Z
LAST-MODIFIED:20240213T182548Z
UID:27284-1709560800-1709568000@masshiremncareers.com
SUMMARY:Informational Interview Jobseeker
DESCRIPTION:What is an Informational Interview? Why is it so valuable? Join us for a comprehensive webinar that covers the steps of this truly priceless networking technique! We will cover how to research\, questions to ask and how to best follow-up. Open the doors in your job search. Master the Informational Interview. \nRegister here.
URL:https://masshiremncareers.com/event/informational-interview-jobseeker-2/
CATEGORIES:Cambridge Center Event,Webinar,Workshops
ATTACH;FMTTYPE=image/jpeg:https://masshiremncareers.com/wp-content/uploads/Info-Interview-webinar-Flyer.20240304-1.jpg
END:VEVENT
BEGIN:VEVENT
DTSTART;TZID=America/New_York:20240301T100000
DTEND;TZID=America/New_York:20240301T110000
DTSTAMP:20260422T004413
CREATED:20240212T185313Z
LAST-MODIFIED:20240212T185313Z
UID:27328-1709287200-1709290800@masshiremncareers.com
SUMMARY:Unemployed...What Now?!
DESCRIPTION:No one teaches you how to be unemployed. We’re here to help you sort out this ball of questions. What steps to take first\, what to do next and what to avoid. Being unemployed isn’t easy but getting advice from us is. \nRegister here.
URL:https://masshiremncareers.com/event/unemployed-what-now-8/
CATEGORIES:Webinar,Woburn Center Event,Workshops
ATTACH;FMTTYPE=image/jpeg:https://masshiremncareers.com/wp-content/uploads/Unemployed-What-Now-20240301.jpg
END:VEVENT
BEGIN:VEVENT
DTSTART;TZID=America/New_York:20240229T130000
DTEND;TZID=America/New_York:20240229T140000
DTSTAMP:20260422T004413
CREATED:20240226T140942Z
LAST-MODIFIED:20240226T140942Z
UID:27430-1709211600-1709215200@masshiremncareers.com
SUMMARY:Lo Basico de la Entrevista
DESCRIPTION:Quieres estar bien preparado/a para una entrevista de trabajo? Sientes que no consigues empleo porque te pierdes en las entrevistas? \nTienes que asistir a nuestro Taller de Preparacíon para Entrevistas de Empleo! \nTe vamos enseñar como tener exito en tu proxima entrevista y destacarte entre los otros candidatos. \nLlame al centro de Chelsea para \nRegistrarse 617 884-4333 ext. 2716 \nO al correo electrónico  \nplopez@mhmncc.com \n  \n 
URL:https://masshiremncareers.com/event/lo-basico-de-la-entrevista-4/
CATEGORIES:Chelsea Center Event,Español,Workshops
ATTACH;FMTTYPE=image/jpeg:https://masshiremncareers.com/wp-content/uploads/Interviewing-feb29.jpg
END:VEVENT
BEGIN:VEVENT
DTSTART;TZID=America/New_York:20240229T110000
DTEND;TZID=America/New_York:20240229T120000
DTSTAMP:20260422T004413
CREATED:20240109T193425Z
LAST-MODIFIED:20240109T193425Z
UID:27181-1709204400-1709208000@masshiremncareers.com
SUMMARY:Virtual Google Drive
DESCRIPTION:Google Drive is a cloud-based web storage platform for all of your files. In this workshop\, learn the advantages of using Google Drive as your go-to storage location and organization. \nRegister here.
URL:https://masshiremncareers.com/event/virtual-google-drive/
CATEGORIES:Webinar,Woburn Center Event,Workshops
END:VEVENT
BEGIN:VEVENT
DTSTART;TZID=America/New_York:20240229T100000
DTEND;TZID=America/New_York:20240229T120000
DTSTAMP:20260422T004413
CREATED:20240109T161123Z
LAST-MODIFIED:20240109T161123Z
UID:27147-1709200800-1709208000@masshiremncareers.com
SUMMARY:Staying Positive in the Job Search
DESCRIPTION:John applied to hundreds of positions online and not a single bite! Laura got to the final interview stage for several career opportunities and consistently struck out. Stanley simply gave up because nothing worked. Does this sound like you? We can help you avoid job search pitfalls like depression\, anxiety and negativity. Join other job seekers who are in the trenches with you. Immediately put into practice stay-calm strategies so you can focus. Together\, we will learn and comprehend the steps to staying positive in the job search. \nRegister here.
URL:https://masshiremncareers.com/event/staying-positive-in-the-job-search-26/
CATEGORIES:Webinar,Woburn Center Event,Workshops
END:VEVENT
BEGIN:VEVENT
DTSTART;TZID=America/New_York:20240228T110000
DTEND;TZID=America/New_York:20240228T120000
DTSTAMP:20260422T004413
CREATED:20240109T193607Z
LAST-MODIFIED:20240109T193607Z
UID:27183-1709118000-1709121600@masshiremncareers.com
SUMMARY:Google Meet
DESCRIPTION:Google Meet allows you to get in touch with others from virtually anywhere. In this workshop\, learn how to conduct Google Meet calls. \nRegister here.
URL:https://masshiremncareers.com/event/google-meet-2/
CATEGORIES:Woburn Center Event,Workshops
END:VEVENT
BEGIN:VEVENT
DTSTART;TZID=America/New_York:20240228T100000
DTEND;TZID=America/New_York:20240228T110000
DTSTAMP:20260422T004413
CREATED:20240103T214414Z
LAST-MODIFIED:20240103T214414Z
UID:27138-1709114400-1709118000@masshiremncareers.com
SUMMARY:Salary Live Q & A
DESCRIPTION:Enjoyed the webinar on salary but had specific questions about how to negotiate your situation? Please join this live event and get answers. \nRegister here.
URL:https://masshiremncareers.com/event/salary-live-q-a-3/
CATEGORIES:Cambridge Center Event,Webinar,Workshops
END:VEVENT
BEGIN:VEVENT
DTSTART;TZID=America/New_York:20240227T100000
DTEND;TZID=America/New_York:20240227T110000
DTSTAMP:20260422T004413
CREATED:20240109T192743Z
LAST-MODIFIED:20240109T192743Z
UID:27175-1709028000-1709031600@masshiremncareers.com
SUMMARY:Career Change: Second Act
DESCRIPTION:Are you stepping back in your career? Do you need to change your field? Please join us online to examine how to find your transferable skills\, convey value in a new field and more. \nRegister here.
URL:https://masshiremncareers.com/event/career-change-second-act-14/
CATEGORIES:Webinar,Woburn Center Event,Workshops
END:VEVENT
BEGIN:VEVENT
DTSTART;TZID=America/New_York:20240226T140000
DTEND;TZID=America/New_York:20240226T150000
DTSTAMP:20260422T004413
CREATED:20240109T192227Z
LAST-MODIFIED:20240109T192227Z
UID:27173-1708956000-1708959600@masshiremncareers.com
SUMMARY:Salary Negotiation Webinar
DESCRIPTION:How do we successfully negotiate salary? How can we trade “me vs. them” for “mutually beneficial?”\nIn this session you’ll find out! Topics include the Do’s and Don’ts of compensation\, CAR Statements\,\nZOPA\, anchoring bias\, offer analysis\, and deflection tactics. Master your delivery\, fuse your experience\nwith industry know-how and ensure mutual value between you and your target employer.\nJoin us for this enlightening webinar. \nRegister here.
URL:https://masshiremncareers.com/event/salary-negotiation-webinar-8/
CATEGORIES:Cambridge Center Event,Webinar,Workshops
END:VEVENT
BEGIN:VEVENT
DTSTART;TZID=America/New_York:20240223T110000
DTEND;TZID=America/New_York:20240223T123000
DTSTAMP:20260422T004413
CREATED:20240103T214025Z
LAST-MODIFIED:20240103T214025Z
UID:27134-1708686000-1708691400@masshiremncareers.com
SUMMARY:Virtual Google Group 3
DESCRIPTION:Google Suite has so much to offer. In this workshop\, learn how to get started in each of the following apps: Finance\, Ads\, Hangouts\, Shopping\, Travel\, Blogger\, Play\, Chat\, Arts&Culture\, and Jamboard \nRegister here.
URL:https://masshiremncareers.com/event/virtual-google-group-3-2/
CATEGORIES:Webinar,Woburn Center Event,Workshops
END:VEVENT
BEGIN:VEVENT
DTSTART;TZID=America/New_York:20240223T100000
DTEND;TZID=America/New_York:20240223T113000
DTSTAMP:20260422T004413
CREATED:20240109T191958Z
LAST-MODIFIED:20240109T191958Z
UID:27171-1708682400-1708687800@masshiremncareers.com
SUMMARY:LinkedIn Headline & Summary
DESCRIPTION:Get noticed! Learn by example on the best ways to structure your headline and summary to get attention from decision makers on LinkedIn. \nRegister here.
URL:https://masshiremncareers.com/event/linkedin-headline-summary-20/
CATEGORIES:Webinar,Woburn Center Event,Workshops
END:VEVENT
BEGIN:VEVENT
DTSTART;TZID=America/New_York:20240222T100000
DTEND;TZID=America/New_York:20240222T110000
DTSTAMP:20260422T004413
CREATED:20240109T191734Z
LAST-MODIFIED:20240109T191734Z
UID:27169-1708596000-1708599600@masshiremncareers.com
SUMMARY:Surviving Job Loss
DESCRIPTION:Have you been released from your job? It’s a trauma that can be unnerving! Join us to explore the different types of job loss\, Massachusetts state laws regarding employment and how to successfully survive the loss: physically\, emotionally\, and financially!\nSee how to successfully move on!!! \nRegister here.
URL:https://masshiremncareers.com/event/surviving-job-loss-5/
CATEGORIES:Webinar,Woburn Center Event,Workshops
END:VEVENT
BEGIN:VEVENT
DTSTART;TZID=America/New_York:20240221T110000
DTEND;TZID=America/New_York:20240221T130000
DTSTAMP:20260422T004413
CREATED:20240103T213659Z
LAST-MODIFIED:20240103T213659Z
UID:27132-1708513200-1708520400@masshiremncareers.com
SUMMARY:Gmail
DESCRIPTION:Gmail is great for personal use email communication. Explore Gmail in this workshop starting from the very beginning – how to create an account. From there\, learn about all the tools that Gmail has to offer to make communicating with others easier and simpler. \nRegister here.
URL:https://masshiremncareers.com/event/gmail-2/
CATEGORIES:Woburn Center Event,Workshops
END:VEVENT
BEGIN:VEVENT
DTSTART;TZID=America/New_York:20240221T100000
DTEND;TZID=America/New_York:20240221T110000
DTSTAMP:20260422T004413
CREATED:20240109T191436Z
LAST-MODIFIED:20240109T191526Z
UID:27166-1708509600-1708513200@masshiremncareers.com
SUMMARY:CAR/STAR
DESCRIPTION:Applying to positions is all about professional accomplishments. Which ones should you use? Join us in this webinar as we explore what elements make for powerful statements about our abilities\, knowledge and experience to prove we are the best candidate for the job. \nRegister here.
URL:https://masshiremncareers.com/event/car-star-9/
CATEGORIES:Cambridge Center Event,Webinar,Workshops
END:VEVENT
BEGIN:VEVENT
DTSTART;TZID=America/New_York:20240220T110000
DTEND;TZID=America/New_York:20240220T120000
DTSTAMP:20260422T004413
CREATED:20240212T184806Z
LAST-MODIFIED:20240212T200910Z
UID:27324-1708426800-1708430400@masshiremncareers.com
SUMMARY:BEST Hospitality Info Session
DESCRIPTION:Join us to learn about a free pre apprenticeship training program in the Hospitality Industry. After training\, you will be connected to employment at Boston area hotels and become a union member. Great pay and benefits. Must be able to work any shifts on a rotating schedule and must have intermediate English fluency skills. \nRegister here.
URL:https://masshiremncareers.com/event/best-hospitality-info-session/
CATEGORIES:Cambridge Center Event,Job Fairs,Recruitment
ATTACH;FMTTYPE=image/jpeg:https://masshiremncareers.com/wp-content/uploads/20231211-BEST-Hospitality-final-1.jpg
END:VEVENT
BEGIN:VEVENT
DTSTART;TZID=America/New_York:20240220T100000
DTEND;TZID=America/New_York:20240220T120000
DTSTAMP:20260422T004413
CREATED:20240212T184519Z
LAST-MODIFIED:20240212T200946Z
UID:27322-1708423200-1708430400@masshiremncareers.com
SUMMARY:Old Town Trolley Recruitment
DESCRIPTION:Old Town Trolley recruitment for conductors. \nRegister here.
URL:https://masshiremncareers.com/event/old-town-trolley-recruitment-3/
CATEGORIES:Cambridge Center Event,Job Fairs,Recruitment
END:VEVENT
BEGIN:VEVENT
DTSTART;TZID=America/New_York:20240220T100000
DTEND;TZID=America/New_York:20240220T110000
DTSTAMP:20260422T004413
CREATED:20240109T191210Z
LAST-MODIFIED:20240109T191210Z
UID:27164-1708423200-1708426800@masshiremncareers.com
SUMMARY:New Strategies for Older Workers
DESCRIPTION:Is there ageism out there? There is. This workshop will help you fight it and level the battlefield. Let’s review hot to develop a job search that reflects ability\, not age! \nRegister here.
URL:https://masshiremncareers.com/event/new-strategies-for-older-workers-22/
CATEGORIES:Webinar,Woburn Center Event,Workshops
END:VEVENT
BEGIN:VEVENT
DTSTART;TZID=America/New_York:20240216T110000
DTEND;TZID=America/New_York:20240216T123000
DTSTAMP:20260422T004413
CREATED:20240103T213221Z
LAST-MODIFIED:20240103T213221Z
UID:27128-1708081200-1708086600@masshiremncareers.com
SUMMARY:Virtual Google Group 2
DESCRIPTION:Google Suite has so much to offer. In this workshop\, learn how to get started in each of the following apps: Contacts\, Photos\, Keep\, Forms\, Classroom\, Alerts\, and Saved. \nRegister here.
URL:https://masshiremncareers.com/event/virtual-google-group-2-2/
CATEGORIES:Webinar,Woburn Center Event,Workshops
END:VEVENT
BEGIN:VEVENT
DTSTART;TZID=America/New_York:20240216T100000
DTEND;TZID=America/New_York:20240216T113000
DTSTAMP:20260422T004413
CREATED:20240109T184436Z
LAST-MODIFIED:20240109T184436Z
UID:27162-1708077600-1708083000@masshiremncareers.com
SUMMARY:Cover Letters
DESCRIPTION:Learn about the different types of cover letters. We’ll look into the mechanics of what makes an effective cover letter. You will learn how to effectively present your experience and skills to tailor to a job description to help land that next interview. \nRegister here.
URL:https://masshiremncareers.com/event/cover-letters-25/
CATEGORIES:Webinar,Woburn Center Event,Workshops
END:VEVENT
END:VCALENDAR