BEGIN:VCALENDAR
VERSION:2.0
PRODID:-//MassHire Metro North Career Center - ECPv6.15.20//NONSGML v1.0//EN
CALSCALE:GREGORIAN
METHOD:PUBLISH
X-WR-CALNAME:MassHire Metro North Career Center
X-ORIGINAL-URL:https://masshiremncareers.com
X-WR-CALDESC:Events for MassHire Metro North Career Center
REFRESH-INTERVAL;VALUE=DURATION:PT1H
X-Robots-Tag:noindex
X-PUBLISHED-TTL:PT1H
BEGIN:VTIMEZONE
TZID:America/New_York
BEGIN:DAYLIGHT
TZOFFSETFROM:-0500
TZOFFSETTO:-0400
TZNAME:EDT
DTSTART:20230312T070000
END:DAYLIGHT
BEGIN:STANDARD
TZOFFSETFROM:-0400
TZOFFSETTO:-0500
TZNAME:EST
DTSTART:20231105T060000
END:STANDARD
BEGIN:DAYLIGHT
TZOFFSETFROM:-0500
TZOFFSETTO:-0400
TZNAME:EDT
DTSTART:20240310T070000
END:DAYLIGHT
BEGIN:STANDARD
TZOFFSETFROM:-0400
TZOFFSETTO:-0500
TZNAME:EST
DTSTART:20241103T060000
END:STANDARD
BEGIN:DAYLIGHT
TZOFFSETFROM:-0500
TZOFFSETTO:-0400
TZNAME:EDT
DTSTART:20250309T070000
END:DAYLIGHT
BEGIN:STANDARD
TZOFFSETFROM:-0400
TZOFFSETTO:-0500
TZNAME:EST
DTSTART:20251102T060000
END:STANDARD
END:VTIMEZONE
BEGIN:VEVENT
DTSTART;TZID=America/New_York:20241126T100000
DTEND;TZID=America/New_York:20241126T110000
DTSTAMP:20260421T120412
CREATED:20241029T155505Z
LAST-MODIFIED:20241029T155505Z
UID:27970-1732615200-1732618800@masshiremncareers.com
SUMMARY:Transferable Skills in Job Search
DESCRIPTION:How do you convey your value in a job search? Join us as we show you how to match the skills in a job ad to your transferable ones. We’ll talk about when and how to use them to your advantage.Register here
URL:https://masshiremncareers.com/event/transferable-skills-in-job-search-3/
CATEGORIES:Webinar,Woburn Center Event,Workshops
ATTACH;FMTTYPE=application/pdf:https://masshiremncareers.com/wp-content/uploads/Transferable-Skills-in-a-Job-Search-20241126.pdf
END:VEVENT
BEGIN:VEVENT
DTSTART;TZID=America/New_York:20241127T100000
DTEND;TZID=America/New_York:20241127T110000
DTSTAMP:20260421T120412
CREATED:20241029T160258Z
LAST-MODIFIED:20241029T160258Z
UID:27977-1732701600-1732705200@masshiremncareers.com
SUMMARY:CAR/STAR
DESCRIPTION:Applying to positions is all about professional accomplishments. Which ones should you use? Join us in this webinar as we explore what elements make for powerful statements about our abilities\, knowledge and experience to prove we are the best candidate for the job.Register here
URL:https://masshiremncareers.com/event/car-star-8/
CATEGORIES:Cambridge Center Event,Webinar,Workshops
ATTACH;FMTTYPE=application/pdf:https://masshiremncareers.com/wp-content/uploads/CARSTAR.webinar.Flyer_.20241127.pdf
END:VEVENT
BEGIN:VEVENT
DTSTART;TZID=America/New_York:20241128T083000
DTEND;TZID=America/New_York:20241128T163000
DTSTAMP:20260421T120412
CREATED:20241031T131609Z
LAST-MODIFIED:20241031T132551Z
UID:27995-1732782600-1732811400@masshiremncareers.com
SUMMARY:Thanksgiving Offices are closed/Oficinas ceradas
DESCRIPTION:
URL:https://masshiremncareers.com/event/thanksgivinhg-offices-are-closed-oficinas-ceradas/
CATEGORIES:Cambridge Center Event,Chelsea Center Event,Computer Class,Español,Job Fairs,Recruitment,Webinar,Woburn Center Event,Workshops
END:VEVENT
BEGIN:VEVENT
DTSTART;TZID=America/New_York:20241129T083000
DTEND;TZID=America/New_York:20241129T163000
DTSTAMP:20260421T120412
CREATED:20241031T131708Z
LAST-MODIFIED:20241031T132536Z
UID:27996-1732869000-1732897800@masshiremncareers.com
SUMMARY:Day after Thanksgiving Offices are closed/Oficinas ceradas
DESCRIPTION:
URL:https://masshiremncareers.com/event/day-after-thanksgivinhg-offices-are-closed-oficinas-ceradas/
CATEGORIES:Cambridge Center Event,Chelsea Center Event,Computer Class,Español,Job Fairs,Recruitment,Webinar,Woburn Center Event,Workshops
END:VEVENT
BEGIN:VEVENT
DTSTART;TZID=America/New_York:20241202T110000
DTEND;TZID=America/New_York:20241202T130000
DTSTAMP:20260421T120412
CREATED:20241115T185844Z
LAST-MODIFIED:20241115T185844Z
UID:28010-1733137200-1733144400@masshiremncareers.com
SUMMARY:Microsoft Excel
DESCRIPTION:Microsoft Excel is a great tool for collecting\, managing\, and organizing data. In this workshop\, start from scratch and learn Excel beginning with the basics. Develop the skills necessary to feel comfortable opening Excel\, starting a workbook\, editing\, saving your file\, and even learn some basic functions to get you started. Register here
URL:https://masshiremncareers.com/event/microsoft-excel-6/
CATEGORIES:Cambridge Center Event,Workshops
ATTACH;FMTTYPE=application/pdf:https://masshiremncareers.com/wp-content/uploads/Microsoft-Excel-flyer-inperson-Cambridge-20241202.pdf
END:VEVENT
BEGIN:VEVENT
DTSTART;TZID=America/New_York:20241202T140000
DTEND;TZID=America/New_York:20241202T153000
DTSTAMP:20260421T120412
CREATED:20241115T190317Z
LAST-MODIFIED:20241115T190317Z
UID:28012-1733148000-1733153400@masshiremncareers.com
SUMMARY:Interviewing Dos and Don'ts
DESCRIPTION:What makes a good job interview? Join MassHire in person as we discuss the mechanics behind that question! Let’s discuss Interview Questions to prepare for\, questions to ask\, questions you should not ask\, and signs the interview went well. Through lively discussion\, exercises\, and video clips\, we’ll examine the interview together to get you to the next round! Register here
URL:https://masshiremncareers.com/event/interviewing-dos-and-donts-4/
CATEGORIES:Woburn Center Event,Workshops
ATTACH;FMTTYPE=application/pdf:https://masshiremncareers.com/wp-content/uploads/Interviewing-Dos-and-Donts.workshop.flyer_.inperson.Cambridge.20241202.pdf
END:VEVENT
BEGIN:VEVENT
DTSTART;TZID=America/New_York:20241203T110000
DTEND;TZID=America/New_York:20241203T130000
DTSTAMP:20260421T120412
CREATED:20241115T190631Z
LAST-MODIFIED:20241115T190631Z
UID:28014-1733223600-1733230800@masshiremncareers.com
SUMMARY:Basic Computer Skills 1
DESCRIPTION:Are you new to the world of computers? Do you want to feel more comfortable using technology? This is the course for you! Learn the very basics about computers starting with the terminology. Practice navigating a desktop\, browsing the internet\, and even get an introduction to creating and saving documents using some of the most popular Microsoft Windows 11 applications: Word\, Excel\, and PowerPoint. Register here
URL:https://masshiremncareers.com/event/basic-computer-skills-1-12/
CATEGORIES:Woburn Center Event,Workshops
ATTACH;FMTTYPE=application/pdf:https://masshiremncareers.com/wp-content/uploads/Basic-Computer-Skills-I-flyer-inperson-Woburn-20241203.pdf
END:VEVENT
BEGIN:VEVENT
DTSTART;TZID=America/New_York:20241204T100000
DTEND;TZID=America/New_York:20241204T110000
DTSTAMP:20260421T120412
CREATED:20241115T190850Z
LAST-MODIFIED:20241115T190850Z
UID:28016-1733306400-1733310000@masshiremncareers.com
SUMMARY:Wellness in the New Weird Normal
DESCRIPTION:Things have changed amid a pandemic. The threat of burnout is high. What is it and how do we fight it? We’ll look at warning signs\, how to counteract it\, habit loops and more. Register here
URL:https://masshiremncareers.com/event/wellness-in-the-new-weird-normal-6/
CATEGORIES:Cambridge Center Event,Webinar,Workshops
ATTACH;FMTTYPE=application/pdf:https://masshiremncareers.com/wp-content/uploads/Wellness-in-the-new-Weird-Normal.webinar.Flyer_.20241204.pdf
END:VEVENT
BEGIN:VEVENT
DTSTART;TZID=America/New_York:20241204T140000
DTEND;TZID=America/New_York:20241204T153000
DTSTAMP:20260421T120412
CREATED:20241115T191246Z
LAST-MODIFIED:20241115T191246Z
UID:28018-1733320800-1733326200@masshiremncareers.com
SUMMARY:Interviewing Dos & Don'ts
DESCRIPTION:What makes a good job interview? Join MassHire in person as we discuss the mechanics behind that question! Let’s discuss Interview Questions to prepare for\, questions to ask\, questions you should not ask\, and signs the interview went well. Through lively discussion\, exercises\, and video clips\, we’ll examine the interview together to get you to the next round! Register here
URL:https://masshiremncareers.com/event/interviewing-dos-donts-2/
CATEGORIES:Woburn Center Event,Workshops
END:VEVENT
BEGIN:VEVENT
DTSTART;TZID=America/New_York:20241205T100000
DTEND;TZID=America/New_York:20241205T110000
DTSTAMP:20260421T120412
CREATED:20241115T191812Z
LAST-MODIFIED:20241115T195032Z
UID:28020-1733392800-1733396400@masshiremncareers.com
SUMMARY:Virtual Resume
DESCRIPTION:Join this webinar to learn the basics of resumes. What are the types? Dos and don’ts\, how long they should be and how far back in time to go. Register here
URL:https://masshiremncareers.com/event/virtual-resume-3/
CATEGORIES:Cambridge Center Event,Webinar,Workshops
ATTACH;FMTTYPE=application/pdf:https://masshiremncareers.com/wp-content/uploads/Resume-Basics.webinar.Flyer_.20241205.pdf
END:VEVENT
BEGIN:VEVENT
DTSTART;TZID=America/New_York:20241205T100000
DTEND;TZID=America/New_York:20241205T140000
DTSTAMP:20260421T120412
CREATED:20241031T125049Z
LAST-MODIFIED:20241031T125624Z
UID:27993-1733392800-1733407200@masshiremncareers.com
SUMMARY:TSA Recruitment
DESCRIPTION:Come learn about openings with the TSA at the Woburn MassHire Career Center.
URL:https://masshiremncareers.com/event/tsa-recruitment/
CATEGORIES:Job Fairs,Recruitment,Woburn Center Event,Workshops
END:VEVENT
BEGIN:VEVENT
DTSTART;TZID=America/New_York:20241206T100000
DTEND;TZID=America/New_York:20241206T110000
DTSTAMP:20260421T120412
CREATED:20241115T192131Z
LAST-MODIFIED:20241115T192131Z
UID:28021-1733479200-1733482800@masshiremncareers.com
SUMMARY:Thank You Notes & References
DESCRIPTION:You might not realize the value of the Thank You note and references. Both can affect the hiring process. Join Metro North Career Center to learn why you need to send a thank you and how to make it impactful. Who should you choose as references and how do you prepare them? Join us and learn! Register here
URL:https://masshiremncareers.com/event/thank-you-notes-references-18/
CATEGORIES:Webinar,Woburn Center Event,Workshops
END:VEVENT
BEGIN:VEVENT
DTSTART;TZID=America/New_York:20241206T130000
DTEND;TZID=America/New_York:20241206T143000
DTSTAMP:20260421T120412
CREATED:20241115T192437Z
LAST-MODIFIED:20241115T210003Z
UID:28022-1733490000-1733495400@masshiremncareers.com
SUMMARY:Virtual Social Media Overview
DESCRIPTION:Social Media is a huge part of the modern world as it connects people to family\, friends\, and even the general public. Did you know that Social Media can also be a tool for you to use during your job search? In this workshop\, learn how to use social media to positively enforce your job search journey. We will touch upon social media safety and the best ways to use apps like LinkedIn\, Instagram\, Facebook\, and more to your advantage. Register here
URL:https://masshiremncareers.com/event/virtual-social-media-overview-3/
CATEGORIES:Cambridge Center Event,Webinar,Workshops
ATTACH;FMTTYPE=application/pdf:https://masshiremncareers.com/wp-content/uploads/Social-Media-Overview-flyer-virtual-20241206.pdf
END:VEVENT
BEGIN:VEVENT
DTSTART;TZID=America/New_York:20241209T110000
DTEND;TZID=America/New_York:20241209T130000
DTSTAMP:20260421T120412
CREATED:20241115T192650Z
LAST-MODIFIED:20241115T195506Z
UID:28023-1733742000-1733749200@masshiremncareers.com
SUMMARY:Microsoft PowerPoint
DESCRIPTION:Microsoft PowerPoint is a great tool for putting together impressive presentations. In this workshop\, start from scratch and learn PowerPoint beginning with the basics. Develop the skills necessary to feel comfortable opening PowerPoint\, starting a slideshow\, editing\, saving your file\, and even printing\, sharing\, and presenting your document. Register here
URL:https://masshiremncareers.com/event/microsoft-powerpoint-5/
CATEGORIES:Cambridge Center Event,Workshops
ATTACH;FMTTYPE=application/pdf:https://masshiremncareers.com/wp-content/uploads/Microsoft-PowerPoint-flyer-inperson-Cambridge-20241209.pdf
END:VEVENT
BEGIN:VEVENT
DTSTART;TZID=America/New_York:20241209T140000
DTEND;TZID=America/New_York:20241209T153000
DTSTAMP:20260421T120412
CREATED:20241115T201310Z
LAST-MODIFIED:20241115T201310Z
UID:28027-1733752800-1733758200@masshiremncareers.com
SUMMARY:In Person Accomplishment Statements
DESCRIPTION:You have experience but what’s the right experience? How do you convey applicable experience on your resume\, cover letter and during the job interview? Join us in-person as we examine a powerful tool of job search: The Accomplishment Statement! Register here
URL:https://masshiremncareers.com/event/in-person-accomplishment-statements/
CATEGORIES:Cambridge Center Event,Workshops
ATTACH;FMTTYPE=application/pdf:https://masshiremncareers.com/wp-content/uploads/Creating-Accomplishment-Statements.workshop.flyer_.inperson.Cambridge.20241209.pdf
END:VEVENT
BEGIN:VEVENT
DTSTART;TZID=America/New_York:20241210T100000
DTEND;TZID=America/New_York:20241210T110000
DTSTAMP:20260421T120412
CREATED:20241115T201502Z
LAST-MODIFIED:20241115T201502Z
UID:28029-1733824800-1733828400@masshiremncareers.com
SUMMARY:Virtual Resume
DESCRIPTION:Join this webinar to learn the basics of resumes. What are the types? Dos and don’ts\, how long they should be and how far back in time to go. Register here
URL:https://masshiremncareers.com/event/virtual-resume-4/
CATEGORIES:Webinar,Woburn Center Event,Workshops
END:VEVENT
BEGIN:VEVENT
DTSTART;TZID=America/New_York:20241210T130000
DTEND;TZID=America/New_York:20241210T150000
DTSTAMP:20260421T120412
CREATED:20241115T201711Z
LAST-MODIFIED:20241115T201711Z
UID:28030-1733835600-1733842800@masshiremncareers.com
SUMMARY:Basic Computer Skills 2
DESCRIPTION:Having general knowledge about computers is a great start! In this class\, enhance your skills by diving deeper into computer knowledge. Get more familiar with the keyboard\, learn to print\, and develop a better understanding of that mess of cords that flows out of the back of your computer. Most importantly\, learn to protect yourself with computer safety. Register here
URL:https://masshiremncareers.com/event/basic-computer-skills-2-12/
CATEGORIES:Woburn Center Event,Workshops
ATTACH;FMTTYPE=application/pdf:https://masshiremncareers.com/wp-content/uploads/Basic-Computer-Skills-2-flyer-inperson-Woburn-20241210.pdf
END:VEVENT
BEGIN:VEVENT
DTSTART;TZID=America/New_York:20241211T100000
DTEND;TZID=America/New_York:20241211T110000
DTSTAMP:20260421T120412
CREATED:20241115T201903Z
LAST-MODIFIED:20241115T201903Z
UID:28032-1733911200-1733914800@masshiremncareers.com
SUMMARY:Salary Negotiation Webinar
DESCRIPTION:How do we successfully negotiate salary? How can we trade “me vs. them” for “mutually beneficial?”\nIn this session you’ll find out! Topics include the Do’s and Don’ts of compensation\, CAR Statements\,\nZOPA\, anchoring bias\, offer analysis\, and deflection tactics. Master your delivery\, fuse your experience\nwith industry know-how and ensure mutual value between you and your target employer.\nJoin us for this enlightening webinar. Register here
URL:https://masshiremncareers.com/event/salary-negotiation-webinar-10/
CATEGORIES:Cambridge Center Event,Webinar,Workshops
ATTACH;FMTTYPE=application/pdf:https://masshiremncareers.com/wp-content/uploads/Salary-Negotiation.webinar.Flyer_.20241211.pdf
END:VEVENT
BEGIN:VEVENT
DTSTART;TZID=America/New_York:20241212T100000
DTEND;TZID=America/New_York:20241212T110000
DTSTAMP:20260421T120412
CREATED:20241115T202306Z
LAST-MODIFIED:20241115T202306Z
UID:28034-1733997600-1734001200@masshiremncareers.com
SUMMARY:Federal Job Search
DESCRIPTION:Interested to apply for a federal job but aren’t sure how? Please join this informative webinar where we walk through all the steps you’ll need to take to start your federal career. Register here
URL:https://masshiremncareers.com/event/federal-job-search-11/
CATEGORIES:Webinar,Woburn Center Event,Workshops
END:VEVENT
BEGIN:VEVENT
DTSTART;TZID=America/New_York:20241213T100000
DTEND;TZID=America/New_York:20241213T110000
DTSTAMP:20260421T120412
CREATED:20241115T202455Z
LAST-MODIFIED:20241115T202455Z
UID:28035-1734084000-1734087600@masshiremncareers.com
SUMMARY:Career Change: Second Act
DESCRIPTION:Are you stepping back in your career? Do you need to change your field? Please join us online to examine how to find your transferable skills\, convey value in a new field and more. Register here
URL:https://masshiremncareers.com/event/career-change-second-act-21/
CATEGORIES:Webinar,Woburn Center Event,Workshops
END:VEVENT
BEGIN:VEVENT
DTSTART;TZID=America/New_York:20241216T110000
DTEND;TZID=America/New_York:20241216T130000
DTSTAMP:20260421T120412
CREATED:20241115T202749Z
LAST-MODIFIED:20241115T202749Z
UID:28036-1734346800-1734354000@masshiremncareers.com
SUMMARY:Google Docs
DESCRIPTION:Google Docs is an efficient tool for creating word documents. In this workshop\, become familiar with Docs starting from the very beginning. Learn to create a document\, edit\, and share. Leave feeling like you can successfully create and use a Google Doc. Register here
URL:https://masshiremncareers.com/event/google-docs-6/
CATEGORIES:Cambridge Center Event,Workshops
ATTACH;FMTTYPE=application/pdf:https://masshiremncareers.com/wp-content/uploads/Google-Docs-flyer-inperson-Cambridge-20241216.pdf
END:VEVENT
BEGIN:VEVENT
DTSTART;TZID=America/New_York:20241216T140000
DTEND;TZID=America/New_York:20241216T150000
DTSTAMP:20260421T120412
CREATED:20241115T202932Z
LAST-MODIFIED:20241115T202932Z
UID:28038-1734357600-1734361200@masshiremncareers.com
SUMMARY:Live Interviewing Q & A
DESCRIPTION:Struggling how to answer the question\, “Tell me about yourself?” Not sure what the differences between behavioral and conventional questions are? Curious what questions are appropriate for you to ask? Bring those and more to a live Q & A session all about interviewing. Register here
URL:https://masshiremncareers.com/event/live-interviewing-q-a-10/
CATEGORIES:Cambridge Center Event,Webinar,Workshops
ATTACH;FMTTYPE=application/pdf:https://masshiremncareers.com/wp-content/uploads/Live-Interview-Q-A.webinar.Flyer_.20241216.pdf
END:VEVENT
BEGIN:VEVENT
DTSTART;TZID=America/New_York:20241217T100000
DTEND;TZID=America/New_York:20241217T100000
DTSTAMP:20260421T120412
CREATED:20241212T183202Z
LAST-MODIFIED:20241212T183202Z
UID:28076-1734429600-1734429600@masshiremncareers.com
SUMMARY:Test youth event
DESCRIPTION:
URL:https://masshiremncareers.com/event/test-youth-event/
CATEGORIES:Youth Services Event
ATTACH;FMTTYPE=image/jpeg:https://masshiremncareers.com/wp-content/uploads/National-Grid-Revised.jpeg
END:VEVENT
BEGIN:VEVENT
DTSTART;TZID=America/New_York:20241217T100000
DTEND;TZID=America/New_York:20241217T110000
DTSTAMP:20260421T120412
CREATED:20241115T203157Z
LAST-MODIFIED:20241115T203157Z
UID:28040-1734429600-1734433200@masshiremncareers.com
SUMMARY:New Strategies for Older Workers
DESCRIPTION:Is there ageism out there? There is. This workshop will help you fight it and level the battlefield. Let’s review hot to develop a job search that reflects ability\, not age! Register here
URL:https://masshiremncareers.com/event/new-strategies-for-older-workers-33/
CATEGORIES:Webinar,Woburn Center Event,Workshops
END:VEVENT
BEGIN:VEVENT
DTSTART;TZID=America/New_York:20241217T130000
DTEND;TZID=America/New_York:20241217T150000
DTSTAMP:20260421T120412
CREATED:20241115T203332Z
LAST-MODIFIED:20241115T203332Z
UID:28041-1734440400-1734447600@masshiremncareers.com
SUMMARY:Microsoft Word
DESCRIPTION:Microsoft Word is a great tool for creating and editing text documents. In this workshop\, start from scratch and learn Word beginning with the basics. Develop the skills necessary to feel comfortable opening Word\, starting a document\, editing\, saving your file\, and even printing and sharing your document. Register here
URL:https://masshiremncareers.com/event/microsoft-word-7/
CATEGORIES:Woburn Center Event,Workshops
ATTACH;FMTTYPE=application/pdf:https://masshiremncareers.com/wp-content/uploads/Microsoft-Word-flyer-inperson-Woburn-20241217.pdf
END:VEVENT
BEGIN:VEVENT
DTSTART;TZID=America/New_York:20241218T100000
DTEND;TZID=America/New_York:20241218T110000
DTSTAMP:20260421T120412
CREATED:20241115T203954Z
LAST-MODIFIED:20241115T203954Z
UID:28044-1734516000-1734519600@masshiremncareers.com
SUMMARY:Job Seeker Burnout Live Q & A
DESCRIPTION:This is a tough time but not the time to give up. Get up! Join MassHire Metro North for an impactful Q&A session on fighting Jobseeker Burnout. Register here
URL:https://masshiremncareers.com/event/job-seeker-burnout-live-q-a-3/
CATEGORIES:Cambridge Center Event,Webinar,Workshops
ATTACH;FMTTYPE=application/pdf:https://masshiremncareers.com/wp-content/uploads/Live-Jobseeker-Burnout-QA.webinar.Flyer_.20241218.pdf
END:VEVENT
BEGIN:VEVENT
DTSTART;TZID=America/New_York:20241218T140000
DTEND;TZID=America/New_York:20241218T153000
DTSTAMP:20260421T120412
CREATED:20241115T204246Z
LAST-MODIFIED:20241115T204246Z
UID:28046-1734530400-1734535800@masshiremncareers.com
SUMMARY:In-Person Accomplishment Statements
DESCRIPTION:Applying to positions is all about professional accomplishments. But which do you use? How do you word them? Join MassHire Metro North for this comprehensive webinar as we cover CAR Statements\, STAR Statements and more! You will be given time to construct your own Accomplishment Statement in class. Register here
URL:https://masshiremncareers.com/event/in-person-accomplishment-statements-2/
CATEGORIES:Woburn Center Event,Workshops
END:VEVENT
BEGIN:VEVENT
DTSTART;TZID=America/New_York:20241220T100000
DTEND;TZID=America/New_York:20241220T110000
DTSTAMP:20260421T120412
CREATED:20241115T204516Z
LAST-MODIFIED:20241115T204516Z
UID:28047-1734688800-1734692400@masshiremncareers.com
SUMMARY:Federal Job Search
DESCRIPTION:Interested to apply for a federal job but aren’t sure how? Please join this informative webinar where we walk through all the steps you’ll need to take to start your federal career. Register here
URL:https://masshiremncareers.com/event/federal-job-search-12/
CATEGORIES:Webinar,Woburn Center Event,Workshops
END:VEVENT
BEGIN:VEVENT
DTSTART;TZID=America/New_York:20241223T140000
DTEND;TZID=America/New_York:20241223T150000
DTSTAMP:20260421T120412
CREATED:20241115T204740Z
LAST-MODIFIED:20241115T204740Z
UID:28048-1734962400-1734966000@masshiremncareers.com
SUMMARY:Career Assessment Focus ONET II
DESCRIPTION:There are tremendous resources in O’net to help you figure out your next career step. We’ll look at crosswalks\, My Next Move and other elements of this cool site. Please join us online. Register here
URL:https://masshiremncareers.com/event/career-assessment-focus-onet-ii-6/
CATEGORIES:Cambridge Center Event,Webinar,Workshops
ATTACH;FMTTYPE=application/pdf:https://masshiremncareers.com/wp-content/uploads/Career-AssessmentONET-II.webinar.Flyer_.20241223.pdf
END:VEVENT
BEGIN:VEVENT
DTSTART;TZID=America/New_York:20241224T100000
DTEND;TZID=America/New_York:20241224T110000
DTSTAMP:20260421T120412
CREATED:20241115T203758Z
LAST-MODIFIED:20241115T203758Z
UID:28043-1735034400-1735038000@masshiremncareers.com
SUMMARY:Staying Positive (Webinar)
DESCRIPTION:We can help you avoid job search pitfalls like depression\, anxiety and negativity. Join other job seekers who are in the trenches with you. Immediately put into practice stay-calm strategies so you can focus. Together\, we will learn and comprehend the steps to staying positive in the job search. Register here
URL:https://masshiremncareers.com/event/staying-positive-webinar-6/
CATEGORIES:Webinar,Woburn Center Event,Workshops
END:VEVENT
END:VCALENDAR